BEGIN:VCALENDAR
VERSION:2.0
PRODID:-//Anash.org - ECPv6.15.20//NONSGML v1.0//EN
CALSCALE:GREGORIAN
METHOD:PUBLISH
X-WR-CALNAME:Anash.org
X-ORIGINAL-URL:https://anash.org
X-WR-CALDESC:Events for Anash.org
REFRESH-INTERVAL;VALUE=DURATION:PT1H
X-Robots-Tag:noindex
X-PUBLISHED-TTL:PT1H
BEGIN:VTIMEZONE
TZID:America/New_York
BEGIN:DAYLIGHT
TZOFFSETFROM:-0500
TZOFFSETTO:-0400
TZNAME:EDT
DTSTART:20200308T070000
END:DAYLIGHT
BEGIN:STANDARD
TZOFFSETFROM:-0400
TZOFFSETTO:-0500
TZNAME:EST
DTSTART:20201101T060000
END:STANDARD
BEGIN:DAYLIGHT
TZOFFSETFROM:-0500
TZOFFSETTO:-0400
TZNAME:EDT
DTSTART:20210314T070000
END:DAYLIGHT
BEGIN:STANDARD
TZOFFSETFROM:-0400
TZOFFSETTO:-0500
TZNAME:EST
DTSTART:20211107T060000
END:STANDARD
BEGIN:DAYLIGHT
TZOFFSETFROM:-0500
TZOFFSETTO:-0400
TZNAME:EDT
DTSTART:20220313T070000
END:DAYLIGHT
BEGIN:STANDARD
TZOFFSETFROM:-0400
TZOFFSETTO:-0500
TZNAME:EST
DTSTART:20221106T060000
END:STANDARD
BEGIN:DAYLIGHT
TZOFFSETFROM:-0500
TZOFFSETTO:-0400
TZNAME:EDT
DTSTART:20230312T070000
END:DAYLIGHT
BEGIN:STANDARD
TZOFFSETFROM:-0400
TZOFFSETTO:-0500
TZNAME:EST
DTSTART:20231105T060000
END:STANDARD
BEGIN:DAYLIGHT
TZOFFSETFROM:-0500
TZOFFSETTO:-0400
TZNAME:EDT
DTSTART:20240310T070000
END:DAYLIGHT
BEGIN:STANDARD
TZOFFSETFROM:-0400
TZOFFSETTO:-0500
TZNAME:EST
DTSTART:20241103T060000
END:STANDARD
END:VTIMEZONE
BEGIN:VEVENT
DTSTART;TZID=America/New_York:20230117T163000
DTEND;TZID=America/New_York:20230117T233000
DTSTAMP:20260422T041610
CREATED:20230111T012431Z
LAST-MODIFIED:20230111T013638Z
UID:532637-1673973000-1673998200@anash.org
SUMMARY:Wedding
DESCRIPTION:Wedding of Shulem Moshe Freund and Breina Zirkind
URL:https://anash.org/event/wedding-2/
LOCATION:Razag\, 739 E New York Ave.\, Brooklyn\, NY\, 11203\, United States
CATEGORIES:Wedding
END:VEVENT
BEGIN:VEVENT
DTSTART;TZID=America/New_York:20210112T204500
DTEND;TZID=America/New_York:20210112T204500
DTSTAMP:20260422T041610
CREATED:20210111T000222Z
LAST-MODIFIED:20210111T002905Z
UID:204789-1610484300-1610484300@anash.org
SUMMARY:Simchas Chosson V’Kallah Liberov-Braun
DESCRIPTION:Wedding of Sholom Ber Liberov (Flatbush) to Chaya Mushka Braun (Crown Heights)
URL:https://anash.org/event/simchas-chosson-vkallah-liberov-braun/
LOCATION:Razag\, 739 E New York Ave.\, Brooklyn\, NY\, 11203\, United States
CATEGORIES:Wedding
END:VEVENT
END:VCALENDAR