BEGIN:VCALENDAR
VERSION:2.0
PRODID:-//Anash.org - ECPv6.15.20//NONSGML v1.0//EN
CALSCALE:GREGORIAN
METHOD:PUBLISH
X-ORIGINAL-URL:https://anash.org
X-WR-CALDESC:Events for Anash.org
REFRESH-INTERVAL;VALUE=DURATION:PT1H
X-Robots-Tag:noindex
X-PUBLISHED-TTL:PT1H
BEGIN:VTIMEZONE
TZID:America/New_York
BEGIN:DAYLIGHT
TZOFFSETFROM:-0500
TZOFFSETTO:-0400
TZNAME:EDT
DTSTART:20180311T070000
END:DAYLIGHT
BEGIN:STANDARD
TZOFFSETFROM:-0400
TZOFFSETTO:-0500
TZNAME:EST
DTSTART:20181104T060000
END:STANDARD
BEGIN:DAYLIGHT
TZOFFSETFROM:-0500
TZOFFSETTO:-0400
TZNAME:EDT
DTSTART:20190310T070000
END:DAYLIGHT
BEGIN:STANDARD
TZOFFSETFROM:-0400
TZOFFSETTO:-0500
TZNAME:EST
DTSTART:20191103T060000
END:STANDARD
BEGIN:DAYLIGHT
TZOFFSETFROM:-0500
TZOFFSETTO:-0400
TZNAME:EDT
DTSTART:20200308T070000
END:DAYLIGHT
BEGIN:STANDARD
TZOFFSETFROM:-0400
TZOFFSETTO:-0500
TZNAME:EST
DTSTART:20201101T060000
END:STANDARD
BEGIN:DAYLIGHT
TZOFFSETFROM:-0500
TZOFFSETTO:-0400
TZNAME:EDT
DTSTART:20210314T070000
END:DAYLIGHT
BEGIN:STANDARD
TZOFFSETFROM:-0400
TZOFFSETTO:-0500
TZNAME:EST
DTSTART:20211107T060000
END:STANDARD
BEGIN:DAYLIGHT
TZOFFSETFROM:-0500
TZOFFSETTO:-0400
TZNAME:EDT
DTSTART:20220313T070000
END:DAYLIGHT
BEGIN:STANDARD
TZOFFSETFROM:-0400
TZOFFSETTO:-0500
TZNAME:EST
DTSTART:20221106T060000
END:STANDARD
BEGIN:DAYLIGHT
TZOFFSETFROM:-0500
TZOFFSETTO:-0400
TZNAME:EDT
DTSTART:20230312T070000
END:DAYLIGHT
BEGIN:STANDARD
TZOFFSETFROM:-0400
TZOFFSETTO:-0500
TZNAME:EST
DTSTART:20231105T060000
END:STANDARD
BEGIN:DAYLIGHT
TZOFFSETFROM:-0500
TZOFFSETTO:-0400
TZNAME:EDT
DTSTART:20240310T070000
END:DAYLIGHT
BEGIN:STANDARD
TZOFFSETFROM:-0400
TZOFFSETTO:-0500
TZNAME:EST
DTSTART:20241103T060000
END:STANDARD
BEGIN:DAYLIGHT
TZOFFSETFROM:-0500
TZOFFSETTO:-0400
TZNAME:EDT
DTSTART:20250309T070000
END:DAYLIGHT
BEGIN:STANDARD
TZOFFSETFROM:-0400
TZOFFSETTO:-0500
TZNAME:EST
DTSTART:20251102T060000
END:STANDARD
END:VTIMEZONE
BEGIN:VEVENT
DTSTART;TZID=America/New_York:20240516T203000
DTEND;TZID=America/New_York:20240516T203000
DTSTAMP:20260423T002230
CREATED:20240505T134220Z
LAST-MODIFIED:20240508T190441Z
UID:799902-1715891400-1715891400@anash.org
SUMMARY:Yaakov Dovid Gordon (Melbourne Australia) to Rivka Pink (Solihull England)
DESCRIPTION:Yaakov Dovid Gordon (Melbourne Australia) to Rivka Pink (Solihull England)
URL:https://anash.org/event/yaakov-dovid-gordon-melbourne-australia-to-rivka-pink-solihull-england/
LOCATION:Lubavitcher Yeshiva\, 570 Crown St\, Brooklyn\, NY\, 11213\, United States
CATEGORIES:l'Chaim
END:VEVENT
BEGIN:VEVENT
DTSTART;TZID=America/New_York:20230117T163000
DTEND;TZID=America/New_York:20230117T233000
DTSTAMP:20260423T002230
CREATED:20230111T012431Z
LAST-MODIFIED:20230111T013638Z
UID:532637-1673973000-1673998200@anash.org
SUMMARY:Wedding
DESCRIPTION:Wedding of Shulem Moshe Freund and Breina Zirkind
URL:https://anash.org/event/wedding-2/
LOCATION:Razag\, 739 E New York Ave.\, Brooklyn\, NY\, 11203\, United States
CATEGORIES:Wedding
END:VEVENT
BEGIN:VEVENT
DTSTART;TZID=America/New_York:20210308T200000
DTEND;TZID=America/New_York:20210308T200000
DTSTAMP:20260423T002230
CREATED:20210308T201121Z
LAST-MODIFIED:20210308T202923Z
UID:220617-1615233600-1615233600@anash.org
SUMMARY:Lchaim Zajac-Altein
DESCRIPTION:Lchaim of Zalman Zushe Zajac (ben R’ Shmuel)- Crown Heights\, to Shaina Altein (bas R’ Mendel) – Montreal\, Canada\n8:00 pm at FREE
URL:https://anash.org/event/lchaim-zajac-altein/
LOCATION:F.R.E.E.\, 1383 President St\, Brooklyn\, NY\, 11213\, United States
CATEGORIES:l'Chaim
END:VEVENT
BEGIN:VEVENT
DTSTART;TZID=America/New_York:20210112T204500
DTEND;TZID=America/New_York:20210112T204500
DTSTAMP:20260423T002230
CREATED:20210111T000222Z
LAST-MODIFIED:20210111T002905Z
UID:204789-1610484300-1610484300@anash.org
SUMMARY:Simchas Chosson V’Kallah Liberov-Braun
DESCRIPTION:Wedding of Sholom Ber Liberov (Flatbush) to Chaya Mushka Braun (Crown Heights)
URL:https://anash.org/event/simchas-chosson-vkallah-liberov-braun/
LOCATION:Razag\, 739 E New York Ave.\, Brooklyn\, NY\, 11203\, United States
CATEGORIES:Wedding
END:VEVENT
BEGIN:VEVENT
DTSTART;TZID=America/New_York:20190917T203000
DTEND;TZID=America/New_York:20190918T010000
DTSTAMP:20260423T002230
CREATED:20190913T141347Z
LAST-MODIFIED:20190913T141347Z
UID:58019-1568752200-1568768400@anash.org
SUMMARY:ח״י אלול  Farbrengen
DESCRIPTION:This Tuesday at 8:30 pm \n543 Empire BLVD Zevi Shul \nWith Naftali Silberberg\,\na noted author and lecturer\, is the co-director of curriculum for the Rohr Jewish Learning Institute and co-editor-in-chief of its Flagship division.
URL:https://anash.org/event/%d7%97%d7%b4%d7%99-%d7%90%d7%9c%d7%95%d7%9c-farbrengen/
LOCATION:Zevi Shul\, 543 empire Blvd\, Brooklyn\, 11213
CATEGORIES:Shiurim,Simchos
END:VEVENT
BEGIN:VEVENT
DTSTART;VALUE=DATE:20190820
DTEND;VALUE=DATE:20190821
DTSTAMP:20260423T002230
CREATED:20190819T165256Z
LAST-MODIFIED:20190819T165349Z
UID:49118-1566259200-1566345599@anash.org
SUMMARY:L’Chaim: RAPOPORT - KUDAN
DESCRIPTION:L’Chaim: YOSSI RAPOPORT – ATLANTIC CITY NJ To SARA KUDAN – ALBANY NY At BROOKLYN COMMONS – 495 FLATBUSH AVE\, BROOKLYN NY 11225
URL:https://anash.org/event/lchaim-rapoport-kudan/
LOCATION:NY
CATEGORIES:Simchos
END:VEVENT
BEGIN:VEVENT
DTSTART;VALUE=DATE:20190819
DTEND;VALUE=DATE:20190820
DTSTAMP:20260423T002230
CREATED:20190819T170313Z
LAST-MODIFIED:20190819T201820Z
UID:49121-1566172800-1566259199@anash.org
SUMMARY:Wedding: Gutleizer - Tolede
DESCRIPTION:Wedding: Sholom Gutleizer – Crown Heights And Cori Toledo – Bogota\, Colombia At Razag
URL:https://anash.org/event/wedding-gutleizer-tolede/
LOCATION:NY
CATEGORIES:Simchos
END:VEVENT
END:VCALENDAR