BEGIN:VCALENDAR
VERSION:2.0
PRODID:-//Anash.org - ECPv6.15.20//NONSGML v1.0//EN
CALSCALE:GREGORIAN
METHOD:PUBLISH
X-WR-CALNAME:Anash.org
X-ORIGINAL-URL:https://anash.org
X-WR-CALDESC:Events for Anash.org
REFRESH-INTERVAL;VALUE=DURATION:PT1H
X-Robots-Tag:noindex
X-PUBLISHED-TTL:PT1H
BEGIN:VTIMEZONE
TZID:America/New_York
BEGIN:DAYLIGHT
TZOFFSETFROM:-0500
TZOFFSETTO:-0400
TZNAME:EDT
DTSTART:20180311T070000
END:DAYLIGHT
BEGIN:STANDARD
TZOFFSETFROM:-0400
TZOFFSETTO:-0500
TZNAME:EST
DTSTART:20181104T060000
END:STANDARD
BEGIN:DAYLIGHT
TZOFFSETFROM:-0500
TZOFFSETTO:-0400
TZNAME:EDT
DTSTART:20190310T070000
END:DAYLIGHT
BEGIN:STANDARD
TZOFFSETFROM:-0400
TZOFFSETTO:-0500
TZNAME:EST
DTSTART:20191103T060000
END:STANDARD
BEGIN:DAYLIGHT
TZOFFSETFROM:-0500
TZOFFSETTO:-0400
TZNAME:EDT
DTSTART:20200308T070000
END:DAYLIGHT
BEGIN:STANDARD
TZOFFSETFROM:-0400
TZOFFSETTO:-0500
TZNAME:EST
DTSTART:20201101T060000
END:STANDARD
BEGIN:DAYLIGHT
TZOFFSETFROM:-0500
TZOFFSETTO:-0400
TZNAME:EDT
DTSTART:20210314T070000
END:DAYLIGHT
BEGIN:STANDARD
TZOFFSETFROM:-0400
TZOFFSETTO:-0500
TZNAME:EST
DTSTART:20211107T060000
END:STANDARD
END:VTIMEZONE
BEGIN:VEVENT
DTSTART;TZID=America/New_York:20200505T223000
DTEND;TZID=America/New_York:20200505T223000
DTSTAMP:20260421T191857
CREATED:20200505T201447Z
LAST-MODIFIED:20200505T202217Z
UID:128670-1588717800-1588717800@anash.org
SUMMARY:Laibl Wolf Seminar
DESCRIPTION:We have a weekly “Tuesday Together” Speaker for all the Chabad houses in Oregon\, Laibl Wolf will be speaking this week at 7:30pm PST (10:30pm EST) \nTopic: Unleashing the True Me \n“Meditation to Train Positive Attitudes During Times of Crisis” \nWe are opening it to the public this week. \nZoom Meeting \nhttps://zoom.us/j/437967819 \nMeeting ID: 437 967 819 \nDial in:\n+1 669 900 9128 \nMeeting ID: 437 967 819
URL:https://anash.org/event/laibl-wolf-seminar/
LOCATION:Zoom
CATEGORIES:Shiurim
ATTACH;FMTTYPE=image/jpeg:https://files.anash.org/uploads/2020/05/Laibl-Wolf-scaled.jpg
END:VEVENT
BEGIN:VEVENT
DTSTART;TZID=America/New_York:20200405T100000
DTEND;TZID=America/New_York:20200405T100000
DTSTAMP:20260421T191857
CREATED:20200403T182024Z
LAST-MODIFIED:20200403T182530Z
UID:121019-1586080800-1586080800@anash.org
SUMMARY:Yud Alef Nisan Farbrengen
DESCRIPTION:Join a live Yud Aled Nisan farbrenegn geared towards Middle School. \n*LEC Middle School presents a Yud Alef Nissan Farbrengen*\n_Honoring the Rebbe’s Birthday_ \n🎙 Farbrengen by;\n*Rabbi Mendel Samuels*\nShliach to Farmington Valley\, Connecticut \n*Rabbi Yehuda Teichtal*\nShliach to Berlin\, Germany \n🎶 Niggunim sung by;\n*Bentzi Marcus* and *Simche Friedman* \n🗓 Sunday\, Yud Alef Nissan\, 5780 | April 5\, 2020 \n🕙 1:00 PM ET \n🎟️ Exclusive raffle for those that join the Farbrengen. \n*👀 Watch the live stream: https://youtu.be/_2UtWJng6o8
URL:https://anash.org/event/yud-alef-nisan-farbrengen/
LOCATION:Shain Shul\, 390 Kingston Ave\, Brooklyn\, NY\, 11225\, United States
CATEGORIES:Shiurim
ATTACH;FMTTYPE=image/png:https://files.anash.org/uploads/2020/04/yud-alef-nissan-farby-1.png
END:VEVENT
BEGIN:VEVENT
DTSTART;TZID=America/New_York:20190917T203000
DTEND;TZID=America/New_York:20190918T010000
DTSTAMP:20260421T191857
CREATED:20190913T141347Z
LAST-MODIFIED:20190913T141347Z
UID:58019-1568752200-1568768400@anash.org
SUMMARY:ח״י אלול  Farbrengen
DESCRIPTION:This Tuesday at 8:30 pm \n543 Empire BLVD Zevi Shul \nWith Naftali Silberberg\,\na noted author and lecturer\, is the co-director of curriculum for the Rohr Jewish Learning Institute and co-editor-in-chief of its Flagship division.
URL:https://anash.org/event/%d7%97%d7%b4%d7%99-%d7%90%d7%9c%d7%95%d7%9c-farbrengen/
LOCATION:Zevi Shul\, 543 empire Blvd\, Brooklyn\, 11213
CATEGORIES:Shiurim,Simchos
END:VEVENT
END:VCALENDAR