BEGIN:VCALENDAR
VERSION:2.0
PRODID:-//Anash.org - ECPv6.15.20//NONSGML v1.0//EN
CALSCALE:GREGORIAN
METHOD:PUBLISH
X-ORIGINAL-URL:https://anash.org
X-WR-CALDESC:Events for Anash.org
REFRESH-INTERVAL;VALUE=DURATION:PT1H
X-Robots-Tag:noindex
X-PUBLISHED-TTL:PT1H
BEGIN:VTIMEZONE
TZID:America/New_York
BEGIN:DAYLIGHT
TZOFFSETFROM:-0500
TZOFFSETTO:-0400
TZNAME:EDT
DTSTART:20180311T070000
END:DAYLIGHT
BEGIN:STANDARD
TZOFFSETFROM:-0400
TZOFFSETTO:-0500
TZNAME:EST
DTSTART:20181104T060000
END:STANDARD
BEGIN:DAYLIGHT
TZOFFSETFROM:-0500
TZOFFSETTO:-0400
TZNAME:EDT
DTSTART:20190310T070000
END:DAYLIGHT
BEGIN:STANDARD
TZOFFSETFROM:-0400
TZOFFSETTO:-0500
TZNAME:EST
DTSTART:20191103T060000
END:STANDARD
BEGIN:DAYLIGHT
TZOFFSETFROM:-0500
TZOFFSETTO:-0400
TZNAME:EDT
DTSTART:20200308T070000
END:DAYLIGHT
BEGIN:STANDARD
TZOFFSETFROM:-0400
TZOFFSETTO:-0500
TZNAME:EST
DTSTART:20201101T060000
END:STANDARD
BEGIN:DAYLIGHT
TZOFFSETFROM:-0500
TZOFFSETTO:-0400
TZNAME:EDT
DTSTART:20210314T070000
END:DAYLIGHT
BEGIN:STANDARD
TZOFFSETFROM:-0400
TZOFFSETTO:-0500
TZNAME:EST
DTSTART:20211107T060000
END:STANDARD
BEGIN:DAYLIGHT
TZOFFSETFROM:-0500
TZOFFSETTO:-0400
TZNAME:EDT
DTSTART:20220313T070000
END:DAYLIGHT
BEGIN:STANDARD
TZOFFSETFROM:-0400
TZOFFSETTO:-0500
TZNAME:EST
DTSTART:20221106T060000
END:STANDARD
BEGIN:DAYLIGHT
TZOFFSETFROM:-0500
TZOFFSETTO:-0400
TZNAME:EDT
DTSTART:20230312T070000
END:DAYLIGHT
BEGIN:STANDARD
TZOFFSETFROM:-0400
TZOFFSETTO:-0500
TZNAME:EST
DTSTART:20231105T060000
END:STANDARD
END:VTIMEZONE
BEGIN:VEVENT
DTSTART;TZID=America/New_York:20220514T173000
DTEND;TZID=America/New_York:20220514T190000
DTSTAMP:20260421T173902
CREATED:20220513T112515Z
LAST-MODIFIED:20220515T192148Z
UID:396166-1652549400-1652554800@anash.org
SUMMARY:PIRKEI AVOS SHIUR FOR WOMEN AND GIRLS
DESCRIPTION:RABBI MICHOEL SELIGSON-MRS SARA AZIMOV
URL:https://anash.org/event/pirkei-avos-shiur-for-women-and-girls-7/
LOCATION:CONGREGATION ANASH-FRONT WALK IN\, 770 MONTGOMERY STREET\, BROOKLYN\, NY\, 11213
CATEGORIES:Shiurim
END:VEVENT
BEGIN:VEVENT
DTSTART;TZID=America/New_York:20220507T173000
DTEND;TZID=America/New_York:20220507T190000
DTSTAMP:20260421T173903
CREATED:20220505T211940Z
LAST-MODIFIED:20220511T025239Z
UID:393992-1651944600-1651950000@anash.org
SUMMARY:PIRKEI AVOS SHIUR FOR WOMEN AND GIRLS
DESCRIPTION:5:30-6:15/ RABBI MICHOEL SELIGSON / 6:15-7:00 PM / RABBI ARYE LEIB FRIEDMAN (FROM ITALY)
URL:https://anash.org/event/pirkei-avos-shiur-for-women-and-girls-6/
LOCATION:CONGRGATION ANASH\, 770 montgomery st front walk in
CATEGORIES:Shiurim
END:VEVENT
BEGIN:VEVENT
DTSTART;TZID=America/New_York:20220430T175000
DTEND;TZID=America/New_York:20220430T190000
DTSTAMP:20260421T173903
CREATED:20220428T210835Z
LAST-MODIFIED:20220502T195524Z
UID:392100-1651341000-1651345200@anash.org
SUMMARY:PIRKEI AVOS SHIUR FOR WOMEN AND GIRLS
DESCRIPTION:5:30-6:15 PM RABBI MICHOEL SELIGSON / HOYOM YOM\, INYONEI D’ YOMA\, PARSHAS HASHOVUA –\n6:15-7:00 PM RABBI  MENACHEM HERTZ FROM BELGIUM\nCOME AND BE INSPIRED! COME AND BRING A FRIEND!
URL:https://anash.org/event/pirkei-avos-shiur-for-women-and-girls-5/
LOCATION:CONGREGATION ANASH 770 MONTGOMERY STREET FRONT WALK IN\, 770 Montgomery\, Brooklyn\, 11213
CATEGORIES:Shiurim
END:VEVENT
BEGIN:VEVENT
DTSTART;TZID=America/New_York:20211012T140000
DTEND;TZID=America/New_York:20211012T150000
DTSTAMP:20260421T173903
CREATED:20211010T032541Z
LAST-MODIFIED:20211011T220819Z
UID:299833-1634047200-1634050800@anash.org
SUMMARY:Simcha course begins this Tuesday
DESCRIPTION:Acclaimed Joy Workshop Course beginning this Tuesday\, 5 one-hour classes. Interactive small group setting. \nAcquire 5 golden keys 🔑 for joyful living\, plus… \nWeekly homework for real-time practice. \nYour life will change! ⚡️☄️ \nEmail joycoach609@gmail.com to sign up. Daytime and Evening classes forming. In-person groups available. \nJoin The Joy Movement! 🌗 \n$75 for course\, proceeds to tzedaka. Scholarships available.
URL:https://anash.org/event/simcha-course-begins-this-tuesday/
LOCATION:Zoom\, 1714 President Street\, Brooklyn\, NY\, 11213
CATEGORIES:Shiurim
ATTACH;FMTTYPE=image/jpeg:https://files.anash.org/uploads/2021/10/Joy-course-invite.jpeg
END:VEVENT
BEGIN:VEVENT
DTSTART;TZID=America/New_York:20210904T173000
DTEND;TZID=America/New_York:20210904T190000
DTSTAMP:20260421T173903
CREATED:20210902T174505Z
LAST-MODIFIED:20210902T180142Z
UID:287407-1630776600-1630782000@anash.org
SUMMARY:PIRKEI AVOS SHIUR FOR WOMEN AND GIRLS
DESCRIPTION:RABBI MICHOEL SELIGSON / RABBI LEVIK KAPLAN
URL:https://anash.org/event/pirkei-avos-shiur-for-women-and-girls-4/
LOCATION:CONGREGATION ANASH 770 MONTGOMRY\, 770 MONTGOMERY STREETFRONT - WALK IN\, BROOKLYN\, 11213
CATEGORIES:Shiurim
END:VEVENT
BEGIN:VEVENT
DTSTART;TZID=America/New_York:20210821T173000
DTEND;TZID=America/New_York:20210821T190000
DTSTAMP:20260421T173903
CREATED:20210820T140910Z
LAST-MODIFIED:20210820T142800Z
UID:282253-1629567000-1629572400@anash.org
SUMMARY:Pirkei Avos SHIUR
DESCRIPTION:Mrs Raya Raskin will give a dynamic class! Come and be inspired!
URL:https://anash.org/event/pirkei-avos-shiur/
LOCATION:congregation ansh 770 montgomery street front walk in\, 770 Montgomery front walk in\, Brooklyn\, 11213
CATEGORIES:Shiurim
END:VEVENT
BEGIN:VEVENT
DTSTART;TZID=America/New_York:20210612T173000
DTEND;TZID=America/New_York:20210612T190000
DTSTAMP:20260421T173903
CREATED:20210610T143049Z
LAST-MODIFIED:20210610T152223Z
UID:251709-1623519000-1623524400@anash.org
SUMMARY:PIRKEI AVOS SHIUR FOR WOMEN AND GIRLS
DESCRIPTION:IN HONOR OF GIMMUL TAAMUZ WE ARE HAVING DIFFERENT SHLUCHOS SPEAK. YOU WILL TRULY FEEL CONNECTED AND INSPIRED. COME AND BRING A FRIEND.
URL:https://anash.org/event/pirkei-avos-shiur-for-women-and-girls-2/
LOCATION:Congregation Anash\, 770 Montgomery\, Brooklyn\, 12313
CATEGORIES:Shiurim
END:VEVENT
BEGIN:VEVENT
DTSTART;TZID=America/New_York:20210605T173000
DTEND;TZID=America/New_York:20210605T190000
DTSTAMP:20260421T173903
CREATED:20210604T134829Z
LAST-MODIFIED:20210609T082909Z
UID:248840-1622914200-1622919600@anash.org
SUMMARY:Pirkei avos shiur for women and girls
DESCRIPTION:Pirkei avos shiur for women and girls;\nShabbos day: June 5\nand every Shabbos until Rosh Hashanah: \n5:30-6:15/Rabbi Michoel Seligson-\n6:15-7:00/Rabbi Mordechai Stern- \nat: congregation anash-770 Montgomery Street;\nfront walk-in\nCome and be inspired!
URL:https://anash.org/event/pirkei-avos-shiur-for-women-and-girls/
CATEGORIES:Shiurim
END:VEVENT
BEGIN:VEVENT
DTSTART;TZID=America/New_York:20200727T194500
DTEND;TZID=America/New_York:20200727T210000
DTSTAMP:20260421T173903
CREATED:20200727T055126Z
LAST-MODIFIED:20200727T213452Z
UID:151733-1595879100-1595883600@anash.org
SUMMARY:Hilchos Beis HaBechira for Women and Girls
DESCRIPTION:Very interesting shiur on the Beis Hamikdah\, and there are only 6 classes left 7/27\, 7/28\, 8/2\, 8/3 8/4 and 8/5! \nhttps://us04web.zoom.us/j/72442287008?pwd=WnlETU9Ja3Nheng5Lzk4RTd4YXNEZz09\nZoom Meeting ID: 724 4228 7008\nPassword: 556crown
URL:https://anash.org/event/hilchos-beis-habechira-for-women-and-girls/
LOCATION:Live Zoom class
CATEGORIES:Shiurim
END:VEVENT
BEGIN:VEVENT
DTSTART;TZID=America/New_York:20200716T194500
DTEND;TZID=America/New_York:20200716T210000
DTSTAMP:20260421T173903
CREATED:20200715T023041Z
LAST-MODIFIED:20200715T024138Z
UID:147824-1594928700-1594933200@anash.org
SUMMARY:Hilchos Beis HaBichira for Women & Girls
DESCRIPTION:Hilchos Beis Habechira shiur series\, in conjunction with Machon Chana\, in an enjoyable and understandable format that’s suitable for all women and children. \n7:45 – 9 pm every Sunday through Thursday until Wednesday\, August 5\, 2020 (except Tisha B’av) \nTo join the Hilchos Beis Habechira zoom meeting click the link below:\nhttps://us04web.zoom.us/j/72442287008?pwd=WnlETU9Ja3Nheng5Lzk4RTd4YXNEZz09 \nMeeting ID: 724 4228 7008\nPassword: 556crown
URL:https://anash.org/event/hilchos-beis-habichira-for-women-girls/
LOCATION:Live on Zoom
CATEGORIES:Shiurim
END:VEVENT
BEGIN:VEVENT
DTSTART;TZID=America/New_York:20200505T223000
DTEND;TZID=America/New_York:20200505T223000
DTSTAMP:20260421T173903
CREATED:20200505T201447Z
LAST-MODIFIED:20200505T202217Z
UID:128670-1588717800-1588717800@anash.org
SUMMARY:Laibl Wolf Seminar
DESCRIPTION:We have a weekly “Tuesday Together” Speaker for all the Chabad houses in Oregon\, Laibl Wolf will be speaking this week at 7:30pm PST (10:30pm EST) \nTopic: Unleashing the True Me \n“Meditation to Train Positive Attitudes During Times of Crisis” \nWe are opening it to the public this week. \nZoom Meeting \nhttps://zoom.us/j/437967819 \nMeeting ID: 437 967 819 \nDial in:\n+1 669 900 9128 \nMeeting ID: 437 967 819
URL:https://anash.org/event/laibl-wolf-seminar/
LOCATION:Zoom
CATEGORIES:Shiurim
ATTACH;FMTTYPE=image/jpeg:https://files.anash.org/uploads/2020/05/Laibl-Wolf-scaled.jpg
END:VEVENT
BEGIN:VEVENT
DTSTART;TZID=America/New_York:20200405T100000
DTEND;TZID=America/New_York:20200405T100000
DTSTAMP:20260421T173903
CREATED:20200403T182024Z
LAST-MODIFIED:20200403T182530Z
UID:121019-1586080800-1586080800@anash.org
SUMMARY:Yud Alef Nisan Farbrengen
DESCRIPTION:Join a live Yud Aled Nisan farbrenegn geared towards Middle School. \n*LEC Middle School presents a Yud Alef Nissan Farbrengen*\n_Honoring the Rebbe’s Birthday_ \n🎙 Farbrengen by;\n*Rabbi Mendel Samuels*\nShliach to Farmington Valley\, Connecticut \n*Rabbi Yehuda Teichtal*\nShliach to Berlin\, Germany \n🎶 Niggunim sung by;\n*Bentzi Marcus* and *Simche Friedman* \n🗓 Sunday\, Yud Alef Nissan\, 5780 | April 5\, 2020 \n🕙 1:00 PM ET \n🎟️ Exclusive raffle for those that join the Farbrengen. \n*👀 Watch the live stream: https://youtu.be/_2UtWJng6o8
URL:https://anash.org/event/yud-alef-nisan-farbrengen/
LOCATION:Shain Shul\, 390 Kingston Ave\, Brooklyn\, NY\, 11225\, United States
CATEGORIES:Shiurim
ATTACH;FMTTYPE=image/png:https://files.anash.org/uploads/2020/04/yud-alef-nissan-farby-1.png
END:VEVENT
BEGIN:VEVENT
DTSTART;TZID=America/New_York:20190917T203000
DTEND;TZID=America/New_York:20190918T010000
DTSTAMP:20260421T173903
CREATED:20190913T141347Z
LAST-MODIFIED:20190913T141347Z
UID:58019-1568752200-1568768400@anash.org
SUMMARY:ח״י אלול  Farbrengen
DESCRIPTION:This Tuesday at 8:30 pm \n543 Empire BLVD Zevi Shul \nWith Naftali Silberberg\,\na noted author and lecturer\, is the co-director of curriculum for the Rohr Jewish Learning Institute and co-editor-in-chief of its Flagship division.
URL:https://anash.org/event/%d7%97%d7%b4%d7%99-%d7%90%d7%9c%d7%95%d7%9c-farbrengen/
LOCATION:Zevi Shul\, 543 empire Blvd\, Brooklyn\, 11213
CATEGORIES:Shiurim,Simchos
END:VEVENT
END:VCALENDAR