BEGIN:VCALENDAR
VERSION:2.0
PRODID:-//Anash.org - ECPv6.15.20//NONSGML v1.0//EN
CALSCALE:GREGORIAN
METHOD:PUBLISH
X-ORIGINAL-URL:https://anash.org
X-WR-CALDESC:Events for Anash.org
REFRESH-INTERVAL;VALUE=DURATION:PT1H
X-Robots-Tag:noindex
X-PUBLISHED-TTL:PT1H
BEGIN:VTIMEZONE
TZID:America/New_York
BEGIN:DAYLIGHT
TZOFFSETFROM:-0500
TZOFFSETTO:-0400
TZNAME:EDT
DTSTART:20190310T070000
END:DAYLIGHT
BEGIN:STANDARD
TZOFFSETFROM:-0400
TZOFFSETTO:-0500
TZNAME:EST
DTSTART:20191103T060000
END:STANDARD
BEGIN:DAYLIGHT
TZOFFSETFROM:-0500
TZOFFSETTO:-0400
TZNAME:EDT
DTSTART:20200308T070000
END:DAYLIGHT
BEGIN:STANDARD
TZOFFSETFROM:-0400
TZOFFSETTO:-0500
TZNAME:EST
DTSTART:20201101T060000
END:STANDARD
BEGIN:DAYLIGHT
TZOFFSETFROM:-0500
TZOFFSETTO:-0400
TZNAME:EDT
DTSTART:20210314T070000
END:DAYLIGHT
BEGIN:STANDARD
TZOFFSETFROM:-0400
TZOFFSETTO:-0500
TZNAME:EST
DTSTART:20211107T060000
END:STANDARD
BEGIN:DAYLIGHT
TZOFFSETFROM:-0500
TZOFFSETTO:-0400
TZNAME:EDT
DTSTART:20220313T070000
END:DAYLIGHT
BEGIN:STANDARD
TZOFFSETFROM:-0400
TZOFFSETTO:-0500
TZNAME:EST
DTSTART:20221106T060000
END:STANDARD
BEGIN:DAYLIGHT
TZOFFSETFROM:-0500
TZOFFSETTO:-0400
TZNAME:EDT
DTSTART:20230312T070000
END:DAYLIGHT
BEGIN:STANDARD
TZOFFSETFROM:-0400
TZOFFSETTO:-0500
TZNAME:EST
DTSTART:20231105T060000
END:STANDARD
BEGIN:DAYLIGHT
TZOFFSETFROM:-0500
TZOFFSETTO:-0400
TZNAME:EDT
DTSTART:20240310T070000
END:DAYLIGHT
BEGIN:STANDARD
TZOFFSETFROM:-0400
TZOFFSETTO:-0500
TZNAME:EST
DTSTART:20241103T060000
END:STANDARD
BEGIN:DAYLIGHT
TZOFFSETFROM:-0500
TZOFFSETTO:-0400
TZNAME:EDT
DTSTART:20250309T070000
END:DAYLIGHT
BEGIN:STANDARD
TZOFFSETFROM:-0400
TZOFFSETTO:-0500
TZNAME:EST
DTSTART:20251102T060000
END:STANDARD
END:VTIMEZONE
BEGIN:VEVENT
DTSTART;TZID=America/New_York:20240622T173000
DTEND;TZID=America/New_York:20240622T190000
DTSTAMP:20260421T143122
CREATED:20240620T134459Z
LAST-MODIFIED:20240620T142151Z
UID:811688-1719077400-1719082800@anash.org
SUMMARY:PIRKEI AVOS SHIUR FOR WOMEN AND GIRLS
DESCRIPTION:5:30-6:15 RABBI MICHOEL SELIGSON  /  6:15- 7:00 PM MRS. KAILA SASONKIN SHLUCHA  FROM AKRON OHIO
URL:https://anash.org/event/pirkei-avos-shiur-for-women-and-girls-20/
LOCATION:Congregation Anash\, 770 Montgomery\, Brooklyn\, 12313
CATEGORIES:Shiurim
END:VEVENT
BEGIN:VEVENT
DTSTART;TZID=America/New_York:20240615T173000
DTEND;TZID=America/New_York:20240615T190000
DTSTAMP:20260421T143122
CREATED:20240614T135001Z
LAST-MODIFIED:20240614T152413Z
UID:810638-1718472600-1718478000@anash.org
SUMMARY:PIRKEI AVOS SHIUR FOR WOMEN AND GIRLS
DESCRIPTION:5:30-6:15 PM / RABBI MICHOEL SELIGSON – 6:15-7:00 PM MRS. SIMCHA AZULAY (FROM BRAZIL) at CONGREGATIONANASH- 770 MONTGOMERY STREET
URL:https://anash.org/event/pirkei-avos-shiur-for-women-and-girls-19/
LOCATION:Congregation Anash\, 770 Montgomery\, Brooklyn\, 12313
CATEGORIES:Shiurim
END:VEVENT
BEGIN:VEVENT
DTSTART;TZID=America/New_York:20240601T173000
DTEND;TZID=America/New_York:20240601T190000
DTSTAMP:20260421T143122
CREATED:20240530T174641Z
LAST-MODIFIED:20240530T181420Z
UID:806827-1717263000-1717268400@anash.org
SUMMARY:PIRKEI AVOS SHIUR FORWOMEN AND GIRLS
DESCRIPTION:5:30-6:15/ RABBI MICHOEL SELIGSON  6:15-7:00 PM / RABBI MOTTI LIPSKIER AT 770 MONTGOMERY STREET
URL:https://anash.org/event/pirkei-avos-shiur-forwomen-and-girls/
LOCATION:Congregation Anash\, 770 Montgomery\, Brooklyn\, 12313
CATEGORIES:Shiurim
END:VEVENT
BEGIN:VEVENT
DTSTART;TZID=America/New_York:20240525T173000
DTEND;TZID=America/New_York:20240525T190000
DTSTAMP:20260421T143122
CREATED:20240524T113122Z
LAST-MODIFIED:20240524T163328Z
UID:804426-1716658200-1716663600@anash.org
SUMMARY:PIRKEI AVOS SHIUR FOR WOMEN AND GIRLS
DESCRIPTION:5:30-6:15 PM / RABBI MICHOEL SELIGSON – 6:15- 7:00 PM /  MRS RIVKAH TORENHEIM – ATCONGREGATION ANASH – 770 MONTGOMERY STREET
URL:https://anash.org/event/pirkei-avos-shiur-for-women-and-girls-18/
LOCATION:CONGREGATION ANASH-\, 770 MONTGOMERY\, BROOKLYN\, 11213_
CATEGORIES:Shiurim
END:VEVENT
BEGIN:VEVENT
DTSTART;TZID=America/New_York:20240518T173000
DTEND;TZID=America/New_York:20240518T190000
DTSTAMP:20260421T143122
CREATED:20240516T234141Z
LAST-MODIFIED:20240517T000833Z
UID:802307-1716053400-1716058800@anash.org
SUMMARY:PIRKEI AVOS SHIUR FOR WOMEN AND GIRLS
DESCRIPTION:5:30-6:15 PM / RABBI MICHOEL SELIGSON — 6:15-7:00 PM / MRS. SARA AZIMOV –AT CONGREGATION ANAS – 770 MONTGOMERY STREET
URL:https://anash.org/event/pirkei-avos-shiur-for-women-and-girls-17/
LOCATION:CONGREGATION ANASH –\, 770 Montgomery Street\, Brooklyn\, 11213
CATEGORIES:Shiurim
END:VEVENT
BEGIN:VEVENT
DTSTART;TZID=America/New_York:20240511T173000
DTEND;TZID=America/New_York:20240511T190000
DTSTAMP:20260421T143122
CREATED:20240509T150200Z
LAST-MODIFIED:20240509T151658Z
UID:800860-1715448600-1715454000@anash.org
SUMMARY:PIRKEI AVOS SHIUR FOR WOMEN AND GIRLS
DESCRIPTION:5:30-6:15 PM / RABBI MICHOEL SELIGSON\n6:15-7:00 PM / RABBI LEVI KAPLAN –\nAT CONGREGATION ANASH – 770 MONTGOMERY STREET\nCOME AND BE INSPIRED!
URL:https://anash.org/event/pirkei-avos-shiur-for-women-and-girls-16/
LOCATION:Congtegation Anash\, 766 Montgomery street\, Brooklyn\, NY\, 11213
CATEGORIES:Shiurim
END:VEVENT
BEGIN:VEVENT
DTSTART;TZID=America/New_York:20240504T173000
DTEND;TZID=America/New_York:20240504T190000
DTSTAMP:20260421T143122
CREATED:20240502T171558Z
LAST-MODIFIED:20240502T173433Z
UID:799724-1714843800-1714849200@anash.org
SUMMARY:Pikei Avos Shiur For Women And Girls
DESCRIPTION:5:30- 6:15 pm / Rabbi Michoel Seligson – 6:15- 7:00 PM / Rabbi Levi Y. Blizinsky Principal of “Tag” of Florida. Come and be inspired!
URL:https://anash.org/event/pikei-avos-shiur-for-women-and-girls-2/
LOCATION:Congregation Anash\, 770 Montgomery\, Brooklyn\, 12313
CATEGORIES:Shiurim
END:VEVENT
BEGIN:VEVENT
DTSTART;TZID=America/New_York:20230909T173000
DTEND;TZID=America/New_York:20230909T190000
DTSTAMP:20260421T143122
CREATED:20230907T213927Z
LAST-MODIFIED:20230907T222024Z
UID:669879-1694280600-1694286000@anash.org
SUMMARY:LAST HAKHEL - PIRKEI AVOS FOR WOMEN AND GIRLS
DESCRIPTION:RABBI MICHOEL SELIGSON  = MRS MIRA GURARY
URL:https://anash.org/event/last-hakhel-pirkei-avos-for-women-and-girls/
LOCATION:CONGREGATION ANASH – 770 MONTGOMERY STREET FRONT WALK IN\, 770 MONTGOMERY FRONT WALK IN\, BROOKLYN
CATEGORIES:Shiurim
END:VEVENT
BEGIN:VEVENT
DTSTART;TZID=America/New_York:20230902T173000
DTEND;TZID=America/New_York:20230902T190000
DTSTAMP:20260421T143122
CREATED:20230831T170024Z
LAST-MODIFIED:20230831T180614Z
UID:665410-1693675800-1693681200@anash.org
SUMMARY:PIRKEI AVOS SHIUR FOR WOMEN AND GIRLS
DESCRIPTION:Mrs. Frida Schapiro\nMrs. Goldie Gansbourg
URL:https://anash.org/event/pirkei-avos-shiur-for-women-and-girls-15/
LOCATION:Congregation Anash\, 770 Montgomery\, Brooklyn\, 12313
CATEGORIES:Shiurim
END:VEVENT
BEGIN:VEVENT
DTSTART;TZID=America/New_York:20230819T173000
DTEND;TZID=America/New_York:20230819T190000
DTSTAMP:20260421T143122
CREATED:20230817T135530Z
LAST-MODIFIED:20230817T181337Z
UID:656923-1692466200-1692471600@anash.org
SUMMARY:PIRKEI AVOS SHIUR FOR WOMEN AND GIRLS
DESCRIPTION:RABBI MICHOEL SELIGSON  –  MRS. SIMI HECHT
URL:https://anash.org/event/pirkei-avos-shiur-for-women-and-girls-14/
LOCATION:congregationanash\, 770 Montgomery\, Brooklyn\, 11213
CATEGORIES:Shiurim
END:VEVENT
BEGIN:VEVENT
DTSTART;TZID=America/New_York:20230812T173000
DTEND;TZID=America/New_York:20230812T190000
DTSTAMP:20260421T143122
CREATED:20230810T193521Z
LAST-MODIFIED:20230811T023554Z
UID:654412-1691861400-1691866800@anash.org
SUMMARY:PIRKEI AVOS SHIUR FOR WOMEN AND GIRLS
DESCRIPTION:RABBI MICHOEL SELIGSON  –  MRS. CHANIE ROSENBLUM \n770 MONTGOMERY STREET\nFront walk in\nAUGUST 12 (not 17)\n5:30-7:00 PM
URL:https://anash.org/event/pirkei-avos-shiur-for-women-and-girls-13/
LOCATION:Congregation Anash\, 770 Montgomery\, Brooklyn\, 12313
CATEGORIES:Shiurim
END:VEVENT
BEGIN:VEVENT
DTSTART;TZID=America/New_York:20230729T173000
DTEND;TZID=America/New_York:20230729T190000
DTSTAMP:20260421T143122
CREATED:20230727T130535Z
LAST-MODIFIED:20230727T133928Z
UID:646289-1690651800-1690657200@anash.org
SUMMARY:PIRKEI AVOS SHIUUR FOR WOMEN AND GIRLS
DESCRIPTION:5:30-6:15 PM  SHARIN STORIES ABOUT REBETZIN SHULA KAZEN WHOSE BIRTHDAY IS ON SHABBOS NACHAMU -6:15-7:00 PM MRS. CHAYA SUPER
URL:https://anash.org/event/pirkei-avos-shiuur-for-women-and-girls/
LOCATION:Congregation Anash\, 770 Montgomery\, Brooklyn\, 12313
CATEGORIES:Shiurim
END:VEVENT
BEGIN:VEVENT
DTSTART;TZID=America/New_York:20230715T173000
DTEND;TZID=America/New_York:20230715T173000
DTSTAMP:20260421T143122
CREATED:20230713T225817Z
LAST-MODIFIED:20230714T150117Z
UID:641468-1689442200-1689442200@anash.org
SUMMARY:PIRKE OVOS SHIUR FOR WOMEN AND GIRLS
DESCRIPTION:5:30-6:15 PM RABBI MICHOEL SELIGSON = 6:15- 7:00 PM RABBI DOVID SHOLOM PAPE – COME ANDBE INSPIRED!! COME AND BRING A FRIEND!!!!
URL:https://anash.org/event/pirke-ovos-shiur-for-women-and-girls/
LOCATION:Congregation Anash\, 770 Montgomery\, Brooklyn\, 12313
CATEGORIES:Shiurim
END:VEVENT
BEGIN:VEVENT
DTSTART;TZID=America/New_York:20230708T080000
DTEND;TZID=America/New_York:20230708T173000
DTSTAMP:20260421T143122
CREATED:20230706T024322Z
LAST-MODIFIED:20230706T034239Z
UID:637741-1688803200-1688837400@anash.org
SUMMARY:PIRKEI AVOS SHIUR FOR WOMEN AND GIRLS
DESCRIPTION:5:30-6:15 PM / RABBI MICHOEL SELIGSON / 6:15-7:90 PM / MRS RAYA RASKIN / COME AND BE INSPIRED!!! COME & BRING A FRIEND!!!!
URL:https://anash.org/event/pirkei-avos-shiur-for-women-and-girls-12/
LOCATION:Congregation Anash\, 770 Montgomery\, Brooklyn\, 12313
CATEGORIES:Shiurim
END:VEVENT
BEGIN:VEVENT
DTSTART;TZID=America/New_York:20230603T173000
DTEND;TZID=America/New_York:20230603T173000
DTSTAMP:20260421T143122
CREATED:20230601T130432Z
LAST-MODIFIED:20230601T162445Z
UID:612724-1685813400-1685813400@anash.org
SUMMARY:HAKHEL PIRKEI AVOS SHIUR FOR WOMEN AND GIRLS
DESCRIPTION:5:30-6:15 PM / RABBI MICHOEL SELIGSON – 6:15-7:00 PM / MRS SARALE BLAU
URL:https://anash.org/event/hakhel-pirkei-avos-shiur-for-women-and-girls/
LOCATION:Congregation Anash\, 770 Montgomery\, Brooklyn\, 12313
CATEGORIES:Shiurim
END:VEVENT
BEGIN:VEVENT
DTSTART;TZID=America/New_York:20230513T173000
DTEND;TZID=America/New_York:20230513T190000
DTSTAMP:20260421T143122
CREATED:20230511T205400Z
LAST-MODIFIED:20230512T005023Z
UID:600405-1683999000-1684004400@anash.org
SUMMARY:PIKEI AVOS SHIUR FOR WOMEN AND GIRLS
DESCRIPTION:5:30- 6:15 RABBI MICHOEL SELIGSON – 6:15- 7:00 PM RABBI MORDECAI STERN
URL:https://anash.org/event/pikei-avos-shiur-for-women-and-girls/
LOCATION:CONG. ANASH\, 770 MONTGOMERY FRONT WALK IN\, BROOKLYN\, 11213
CATEGORIES:Shiurim
END:VEVENT
BEGIN:VEVENT
DTSTART;TZID=America/New_York:20230506T175000
DTEND;TZID=America/New_York:20230506T190000
DTSTAMP:20260421T143122
CREATED:20230504T174420Z
LAST-MODIFIED:20230504T200904Z
UID:594425-1683395400-1683399600@anash.org
SUMMARY:PIRKEI AVOS SHIUR FOR WOMEN AND GIRLS
DESCRIPTION:5:30-6:15 RABBI MICHOEL SELIGSON / 6:15-7:00 PM RABBI MOTTI LIPSKIER
URL:https://anash.org/event/pirkei-avos-shiur-for-women-and-girls-11/
LOCATION:Congregation Anash\, 770 Montgomery\, Brooklyn\, 12313
CATEGORIES:Shiurim
END:VEVENT
BEGIN:VEVENT
DTSTART;TZID=America/New_York:20230429T173000
DTEND;TZID=America/New_York:20230429T190000
DTSTAMP:20260421T143122
CREATED:20230427T233223Z
LAST-MODIFIED:20230428T010406Z
UID:591424-1682789400-1682794800@anash.org
SUMMARY:PIRKEI AVOS SHIUR FOR WOMEN AND GIRLS
DESCRIPTION:5:30-6:15 / RABBI MICHOEL SELIGSON  –  6:15- 7:00 PM / RABBI ARYE FRIEDMAN\nCOME AND BE INSPIRED! COME AND BE A FRIEND!!
URL:https://anash.org/event/pirkei-avos-shiur-for-women-and-girls-10/
LOCATION:Congregation Anash\, 770 Montgomery\, Brooklyn\, 12313
CATEGORIES:Shiurim
END:VEVENT
BEGIN:VEVENT
DTSTART;TZID=America/New_York:20220827T173000
DTEND;TZID=America/New_York:20220827T190000
DTSTAMP:20260421T143122
CREATED:20220826T004846Z
LAST-MODIFIED:20220830T130503Z
UID:448052-1661621400-1661626800@anash.org
SUMMARY:PIRKE AVOS FOR WOMEN AND GIRLS
DESCRIPTION:5:30-6:15PM: RABBI MICHOEL ZELIGSON\n6:15-7:00 PM MRS. RAYA RASKIN
URL:https://anash.org/event/pirke-avos-for-women-and-girls/
LOCATION:Congregation Anash\, 770 Montgomery\, Brooklyn\, 12313
CATEGORIES:Shiurim
END:VEVENT
BEGIN:VEVENT
DTSTART;TZID=America/New_York:20220625T173000
DTEND;TZID=America/New_York:20220625T190000
DTSTAMP:20260421T143122
CREATED:20220623T230015Z
LAST-MODIFIED:20220624T124706Z
UID:417759-1656178200-1656183600@anash.org
SUMMARY:PIRKEI AVOS SHIUR FOR WOMEN AND GIRLS
DESCRIPTION:5:30-6:15 PM RABBI NAFTOLI SILBERBERG
URL:https://anash.org/event/pirkei-avos-shiur-for-women-and-girls-8/
LOCATION:Congregation Anash\, 770 Montgomery\, Brooklyn\, 12313
CATEGORIES:Shiurim
END:VEVENT
BEGIN:VEVENT
DTSTART;TZID=America/New_York:20220514T173000
DTEND;TZID=America/New_York:20220514T190000
DTSTAMP:20260421T143122
CREATED:20220513T112515Z
LAST-MODIFIED:20220515T192148Z
UID:396166-1652549400-1652554800@anash.org
SUMMARY:PIRKEI AVOS SHIUR FOR WOMEN AND GIRLS
DESCRIPTION:RABBI MICHOEL SELIGSON-MRS SARA AZIMOV
URL:https://anash.org/event/pirkei-avos-shiur-for-women-and-girls-7/
LOCATION:CONGREGATION ANASH-FRONT WALK IN\, 770 MONTGOMERY STREET\, BROOKLYN\, NY\, 11213
CATEGORIES:Shiurim
END:VEVENT
BEGIN:VEVENT
DTSTART;TZID=America/New_York:20220507T173000
DTEND;TZID=America/New_York:20220507T190000
DTSTAMP:20260421T143122
CREATED:20220505T211940Z
LAST-MODIFIED:20220511T025239Z
UID:393992-1651944600-1651950000@anash.org
SUMMARY:PIRKEI AVOS SHIUR FOR WOMEN AND GIRLS
DESCRIPTION:5:30-6:15/ RABBI MICHOEL SELIGSON / 6:15-7:00 PM / RABBI ARYE LEIB FRIEDMAN (FROM ITALY)
URL:https://anash.org/event/pirkei-avos-shiur-for-women-and-girls-6/
LOCATION:CONGRGATION ANASH\, 770 montgomery st front walk in
CATEGORIES:Shiurim
END:VEVENT
BEGIN:VEVENT
DTSTART;TZID=America/New_York:20220430T175000
DTEND;TZID=America/New_York:20220430T190000
DTSTAMP:20260421T143122
CREATED:20220428T210835Z
LAST-MODIFIED:20220502T195524Z
UID:392100-1651341000-1651345200@anash.org
SUMMARY:PIRKEI AVOS SHIUR FOR WOMEN AND GIRLS
DESCRIPTION:5:30-6:15 PM RABBI MICHOEL SELIGSON / HOYOM YOM\, INYONEI D’ YOMA\, PARSHAS HASHOVUA –\n6:15-7:00 PM RABBI  MENACHEM HERTZ FROM BELGIUM\nCOME AND BE INSPIRED! COME AND BRING A FRIEND!
URL:https://anash.org/event/pirkei-avos-shiur-for-women-and-girls-5/
LOCATION:CONGREGATION ANASH 770 MONTGOMERY STREET FRONT WALK IN\, 770 Montgomery\, Brooklyn\, 11213
CATEGORIES:Shiurim
END:VEVENT
BEGIN:VEVENT
DTSTART;TZID=America/New_York:20211012T140000
DTEND;TZID=America/New_York:20211012T150000
DTSTAMP:20260421T143122
CREATED:20211010T032541Z
LAST-MODIFIED:20211011T220819Z
UID:299833-1634047200-1634050800@anash.org
SUMMARY:Simcha course begins this Tuesday
DESCRIPTION:Acclaimed Joy Workshop Course beginning this Tuesday\, 5 one-hour classes. Interactive small group setting. \nAcquire 5 golden keys 🔑 for joyful living\, plus… \nWeekly homework for real-time practice. \nYour life will change! ⚡️☄️ \nEmail joycoach609@gmail.com to sign up. Daytime and Evening classes forming. In-person groups available. \nJoin The Joy Movement! 🌗 \n$75 for course\, proceeds to tzedaka. Scholarships available.
URL:https://anash.org/event/simcha-course-begins-this-tuesday/
LOCATION:Zoom\, 1714 President Street\, Brooklyn\, NY\, 11213
CATEGORIES:Shiurim
ATTACH;FMTTYPE=image/jpeg:https://files.anash.org/uploads/2021/10/Joy-course-invite.jpeg
END:VEVENT
BEGIN:VEVENT
DTSTART;TZID=America/New_York:20210904T173000
DTEND;TZID=America/New_York:20210904T190000
DTSTAMP:20260421T143122
CREATED:20210902T174505Z
LAST-MODIFIED:20210902T180142Z
UID:287407-1630776600-1630782000@anash.org
SUMMARY:PIRKEI AVOS SHIUR FOR WOMEN AND GIRLS
DESCRIPTION:RABBI MICHOEL SELIGSON / RABBI LEVIK KAPLAN
URL:https://anash.org/event/pirkei-avos-shiur-for-women-and-girls-4/
LOCATION:CONGREGATION ANASH 770 MONTGOMRY\, 770 MONTGOMERY STREETFRONT - WALK IN\, BROOKLYN\, 11213
CATEGORIES:Shiurim
END:VEVENT
BEGIN:VEVENT
DTSTART;TZID=America/New_York:20210821T173000
DTEND;TZID=America/New_York:20210821T190000
DTSTAMP:20260421T143122
CREATED:20210820T140910Z
LAST-MODIFIED:20210820T142800Z
UID:282253-1629567000-1629572400@anash.org
SUMMARY:Pirkei Avos SHIUR
DESCRIPTION:Mrs Raya Raskin will give a dynamic class! Come and be inspired!
URL:https://anash.org/event/pirkei-avos-shiur/
LOCATION:congregation ansh 770 montgomery street front walk in\, 770 Montgomery front walk in\, Brooklyn\, 11213
CATEGORIES:Shiurim
END:VEVENT
BEGIN:VEVENT
DTSTART;TZID=America/New_York:20210612T173000
DTEND;TZID=America/New_York:20210612T190000
DTSTAMP:20260421T143122
CREATED:20210610T143049Z
LAST-MODIFIED:20210610T152223Z
UID:251709-1623519000-1623524400@anash.org
SUMMARY:PIRKEI AVOS SHIUR FOR WOMEN AND GIRLS
DESCRIPTION:IN HONOR OF GIMMUL TAAMUZ WE ARE HAVING DIFFERENT SHLUCHOS SPEAK. YOU WILL TRULY FEEL CONNECTED AND INSPIRED. COME AND BRING A FRIEND.
URL:https://anash.org/event/pirkei-avos-shiur-for-women-and-girls-2/
LOCATION:Congregation Anash\, 770 Montgomery\, Brooklyn\, 12313
CATEGORIES:Shiurim
END:VEVENT
BEGIN:VEVENT
DTSTART;TZID=America/New_York:20210605T173000
DTEND;TZID=America/New_York:20210605T190000
DTSTAMP:20260421T143122
CREATED:20210604T134829Z
LAST-MODIFIED:20210609T082909Z
UID:248840-1622914200-1622919600@anash.org
SUMMARY:Pirkei avos shiur for women and girls
DESCRIPTION:Pirkei avos shiur for women and girls;\nShabbos day: June 5\nand every Shabbos until Rosh Hashanah: \n5:30-6:15/Rabbi Michoel Seligson-\n6:15-7:00/Rabbi Mordechai Stern- \nat: congregation anash-770 Montgomery Street;\nfront walk-in\nCome and be inspired!
URL:https://anash.org/event/pirkei-avos-shiur-for-women-and-girls/
CATEGORIES:Shiurim
END:VEVENT
BEGIN:VEVENT
DTSTART;TZID=America/New_York:20200727T194500
DTEND;TZID=America/New_York:20200727T210000
DTSTAMP:20260421T143122
CREATED:20200727T055126Z
LAST-MODIFIED:20200727T213452Z
UID:151733-1595879100-1595883600@anash.org
SUMMARY:Hilchos Beis HaBechira for Women and Girls
DESCRIPTION:Very interesting shiur on the Beis Hamikdah\, and there are only 6 classes left 7/27\, 7/28\, 8/2\, 8/3 8/4 and 8/5! \nhttps://us04web.zoom.us/j/72442287008?pwd=WnlETU9Ja3Nheng5Lzk4RTd4YXNEZz09\nZoom Meeting ID: 724 4228 7008\nPassword: 556crown
URL:https://anash.org/event/hilchos-beis-habechira-for-women-and-girls/
LOCATION:Live Zoom class
CATEGORIES:Shiurim
END:VEVENT
BEGIN:VEVENT
DTSTART;TZID=America/New_York:20200716T194500
DTEND;TZID=America/New_York:20200716T210000
DTSTAMP:20260421T143122
CREATED:20200715T023041Z
LAST-MODIFIED:20200715T024138Z
UID:147824-1594928700-1594933200@anash.org
SUMMARY:Hilchos Beis HaBichira for Women & Girls
DESCRIPTION:Hilchos Beis Habechira shiur series\, in conjunction with Machon Chana\, in an enjoyable and understandable format that’s suitable for all women and children. \n7:45 – 9 pm every Sunday through Thursday until Wednesday\, August 5\, 2020 (except Tisha B’av) \nTo join the Hilchos Beis Habechira zoom meeting click the link below:\nhttps://us04web.zoom.us/j/72442287008?pwd=WnlETU9Ja3Nheng5Lzk4RTd4YXNEZz09 \nMeeting ID: 724 4228 7008\nPassword: 556crown
URL:https://anash.org/event/hilchos-beis-habichira-for-women-girls/
LOCATION:Live on Zoom
CATEGORIES:Shiurim
END:VEVENT
END:VCALENDAR