BEGIN:VCALENDAR
VERSION:2.0
PRODID:-//Anash.org - ECPv6.15.20//NONSGML v1.0//EN
CALSCALE:GREGORIAN
METHOD:PUBLISH
X-ORIGINAL-URL:https://anash.org
X-WR-CALDESC:Events for Anash.org
REFRESH-INTERVAL;VALUE=DURATION:PT1H
X-Robots-Tag:noindex
X-PUBLISHED-TTL:PT1H
BEGIN:VTIMEZONE
TZID:America/New_York
BEGIN:DAYLIGHT
TZOFFSETFROM:-0500
TZOFFSETTO:-0400
TZNAME:EDT
DTSTART:20220313T070000
END:DAYLIGHT
BEGIN:STANDARD
TZOFFSETFROM:-0400
TZOFFSETTO:-0500
TZNAME:EST
DTSTART:20221106T060000
END:STANDARD
BEGIN:DAYLIGHT
TZOFFSETFROM:-0500
TZOFFSETTO:-0400
TZNAME:EDT
DTSTART:20230312T070000
END:DAYLIGHT
BEGIN:STANDARD
TZOFFSETFROM:-0400
TZOFFSETTO:-0500
TZNAME:EST
DTSTART:20231105T060000
END:STANDARD
BEGIN:DAYLIGHT
TZOFFSETFROM:-0500
TZOFFSETTO:-0400
TZNAME:EDT
DTSTART:20240310T070000
END:DAYLIGHT
BEGIN:STANDARD
TZOFFSETFROM:-0400
TZOFFSETTO:-0500
TZNAME:EST
DTSTART:20241103T060000
END:STANDARD
BEGIN:DAYLIGHT
TZOFFSETFROM:-0500
TZOFFSETTO:-0400
TZNAME:EDT
DTSTART:20250309T070000
END:DAYLIGHT
BEGIN:STANDARD
TZOFFSETFROM:-0400
TZOFFSETTO:-0500
TZNAME:EST
DTSTART:20251102T060000
END:STANDARD
BEGIN:DAYLIGHT
TZOFFSETFROM:-0500
TZOFFSETTO:-0400
TZNAME:EDT
DTSTART:20260308T070000
END:DAYLIGHT
BEGIN:STANDARD
TZOFFSETFROM:-0400
TZOFFSETTO:-0500
TZNAME:EST
DTSTART:20261101T060000
END:STANDARD
END:VTIMEZONE
BEGIN:VEVENT
DTSTART;TZID=America/New_York:20250510T173000
DTEND;TZID=America/New_York:20250510T190000
DTSTAMP:20260421T113247
CREATED:20250507T123906Z
LAST-MODIFIED:20250507T143922Z
UID:911334-1746898200-1746903600@anash.org
SUMMARY:PIRKEI AVOS SHIUR FOR WOMEN AND GIRLS
DESCRIPTION:5:30-6:15 PM / RABBI MICHOEL SELIGSON – 6:15-7:00 PM / RABBI LEIBKE KAPLAN – COME AND BE INSPIRED!!
URL:https://anash.org/event/pirkei-avos-shiur-for-women-and-girls-30/
LOCATION:Congregation Anash\, 770 Montgomery\, Brooklyn\, 12313
CATEGORIES:Shiurim
END:VEVENT
BEGIN:VEVENT
DTSTART;TZID=America/New_York:20250503T173000
DTEND;TZID=America/New_York:20250503T173000
DTSTAMP:20260421T113247
CREATED:20250501T141624Z
LAST-MODIFIED:20250501T143516Z
UID:908983-1746293400-1746293400@anash.org
SUMMARY:PIRKEI AVOS SHIUR FOR WOMEN AND GIRLS
DESCRIPTION:5:30-6:15 PM / RABBI MICHOEL SELIGDON – 6:15-7:00 PM / MRS. RIVKA KOTLARSKY . COME AND BRING A FRIEND.
URL:https://anash.org/event/pirkei-avos-shiur-for-women-and-girls-29/
LOCATION:Congregation Anash\, 770 Montgomery\, Brooklyn\, 12313
CATEGORIES:Shiurim
END:VEVENT
BEGIN:VEVENT
DTSTART;TZID=America/New_York:20250426T173000
DTEND;TZID=America/New_York:20250426T190000
DTSTAMP:20260421T113247
CREATED:20250424T115753Z
LAST-MODIFIED:20250424T191934Z
UID:906659-1745688600-1745694000@anash.org
SUMMARY:PIRKEI AVOS SHIUR FOR WOMEN AND GIRLS
DESCRIPTION:PIRKEI AVOS SHIUR FOR WOMEN AND GIRLS \n5:30–6:15 PM / Rabbi Michoel Seligson6:15–7:00 PM / Mrs. Shimona Tzukernik \nCome and be inspired! Come and bring a friend!!
URL:https://anash.org/event/pirkei-avos-shiur-for-eomen-and-girls/
LOCATION:Congregation Anash\, 770 Montgomery\, Brooklyn\, 12313
CATEGORIES:Shiurim
END:VEVENT
BEGIN:VEVENT
DTSTART;TZID=America/New_York:20241213T210000
DTEND;TZID=America/New_York:20241213T221500
DTSTAMP:20260421T113247
CREATED:20241211T034110Z
LAST-MODIFIED:20241211T041315Z
UID:861601-1734123600-1734128100@anash.org
SUMMARY:CH Women’s Oneg Shabbos Torah Study Class
DESCRIPTION:13 Kislev featuring “Jewish Life Under Communist Russia with Mrs Leah Yechielov-Levin” and Parsha Vayishlach With Mrs Daniella Friend\, Mrs Brocha Friedman and Mrs Rivkah Torenheim\nHosted by Rochel Okunev at 641 Montgomery St at 9pm
URL:https://anash.org/event/ch-womens-oneg-shabbos-torah-study-class/
LOCATION:641 Montgomery St\, 641 Montgomery\, Brooklyn\, 11213
CATEGORIES:Shiurim
ATTACH;FMTTYPE=image/jpeg:https://files.anash.org/uploads/2024/12/56a7734d-8d78-46b2-b16d-5cf7c9a2048f.jpeg
END:VEVENT
BEGIN:VEVENT
DTSTART;TZID=America/New_York:20240928T173000
DTEND;TZID=America/New_York:20240928T184000
DTSTAMP:20260421T113247
CREATED:20240925T130629Z
LAST-MODIFIED:20240925T132631Z
UID:840300-1727544600-1727548800@anash.org
SUMMARY:PIRKEI AVOS SHIUR FOR WOMENAND GIRLS
DESCRIPTION:5:30-6:40 PM – Mrs.Shimona Tzukernik
URL:https://anash.org/event/pirkei-avos-shiur-for-womenand-girls/
LOCATION:Congregation Anash\, 770 Montgomery\, Brooklyn\, 12313
CATEGORIES:Shiurim
END:VEVENT
BEGIN:VEVENT
DTSTART;TZID=America/New_York:20240921T173000
DTEND;TZID=America/New_York:20240921T184000
DTSTAMP:20260421T113247
CREATED:20240919T234830Z
LAST-MODIFIED:20240920T011227Z
UID:838804-1726939800-1726944000@anash.org
SUMMARY:PIRKEI AVOS SHIUR FOR WOMEN AND GIRLS
DESCRIPTION:5:30-6:00 pm / Mrs. Henya Laine – Explanation of tehillim 27- “L’dovid Hashem Ori”\n6:00-6:40 pm / Rabbi Yehoshua Werde
URL:https://anash.org/event/pirkei-avos-shiur-for-women-and-girls-28/
LOCATION:Congregation Anash\, 770 Montgomery\, Brooklyn\, 12313
CATEGORIES:Shiurim
END:VEVENT
BEGIN:VEVENT
DTSTART;TZID=America/New_York:20240914T173000
DTEND;TZID=America/New_York:20240914T185000
DTSTAMP:20260421T113247
CREATED:20240912T115625Z
LAST-MODIFIED:20240912T130034Z
UID:836622-1726335000-1726339800@anash.org
SUMMARY:PIRKEI AVOS SHIUR FOR WOMEN AND GIRLS
DESCRIPTION:5:30-6:50 PM / MRS. CHAYA MINKOWITZ – BENCHEMHOUN –
URL:https://anash.org/event/pirkei-avos-shiur-for-women-and-girls-27/
LOCATION:congregationanash\, 770 Montgomery\, Brooklyn\, 11213
CATEGORIES:Shiurim
END:VEVENT
BEGIN:VEVENT
DTSTART;TZID=America/New_York:20240907T173000
DTEND;TZID=America/New_York:20240907T185000
DTSTAMP:20260421T113247
CREATED:20240905T130031Z
LAST-MODIFIED:20240905T155535Z
UID:834422-1725730200-1725735000@anash.org
SUMMARY:PIRKEI AVOS SHIUR FOR WOMEN AND GIRLS
DESCRIPTION:5:30-6:10 PM / RABBI MICHOEL SELIGSON – 6:10- 6:50 PM / RABBI MORDECAI STERN AT 770 MONTGOMERY STREET
URL:https://anash.org/event/pirkei-avos-shiur-for-women-and-girls-26/
LOCATION:Congregation Anash\, 770 Montgomery\, Brooklyn\, 12313
CATEGORIES:Shiurim
END:VEVENT
BEGIN:VEVENT
DTSTART;TZID=America/New_York:20240831T173000
DTEND;TZID=America/New_York:20240831T190000
DTSTAMP:20260421T113247
CREATED:20240828T184700Z
LAST-MODIFIED:20240828T200425Z
UID:831784-1725125400-1725130800@anash.org
SUMMARY:PIRKEI AVOS SHIUR FOR WOMEN AND GIRLS
DESCRIPTION:5:30- 6:00 PM / Mrs Henya Laine / 6:00- 7:00 PM / Dr. Daniel Schonbuch – child and adult psycologist
URL:https://anash.org/event/pirkei-avos-shiur-for-women-and-girls-25/
LOCATION:Congregation Anash\, 770 Montgomery\, Brooklyn\, 12313
CATEGORIES:Shiurim
END:VEVENT
BEGIN:VEVENT
DTSTART;TZID=America/New_York:20240824T173000
DTEND;TZID=America/New_York:20240824T190000
DTSTAMP:20260421T113247
CREATED:20240821T131538Z
LAST-MODIFIED:20240821T134309Z
UID:829354-1724520600-1724526000@anash.org
SUMMARY:PIRKEI AVOS SHIUR FOR WOMEN
DESCRIPTION:IN MEMORY OF RABBI SHMUEL MENACHEM MENDEL BEN SHNEUR ZALMAN BUTMAN\, OBM. 5:30-6:15 PM / MRS. DASSIE HEBER (RABBI BUTMAN’S DAUGHTER)  6:15-7:00 PM / MRS SARA LEIBERMAN – AT 770 MONTGOMERY STREET
URL:https://anash.org/event/pirkei-avos-shiur-for-women-3/
LOCATION:Congregation Anash\, 770 Montgomery\, Brooklyn\, 12313
CATEGORIES:Shiurim
END:VEVENT
BEGIN:VEVENT
DTSTART;TZID=America/New_York:20240817T173000
DTEND;TZID=America/New_York:20240817T190000
DTSTAMP:20260421T113247
CREATED:20240815T162326Z
LAST-MODIFIED:20240815T175013Z
UID:827658-1723915800-1723921200@anash.org
SUMMARY:PIRKEI AVOS SHIUR FOR WIMEN AND GIRLS
DESCRIPTION:In memory of Mrs. Shula Kazen’s 102  birthday Our Pirkei Avos Shiur will take place at: 5:30-6:15 PM  Mrs. Henya Laine – 6:15-7:00 PM Rabbi Kalman Winefeld\nAt 770 Montgomery\nFront walk in
URL:https://anash.org/event/pirkei-avos-shiur-for-wimen-and-girls/
LOCATION:Congregation Anash\, 770 Montgomery\, Brooklyn\, 12313
CATEGORIES:Shiurim
END:VEVENT
BEGIN:VEVENT
DTSTART;TZID=America/New_York:20240810T173000
DTEND;TZID=America/New_York:20240810T190000
DTSTAMP:20260421T113247
CREATED:20240808T153038Z
LAST-MODIFIED:20240808T170652Z
UID:825895-1723311000-1723316400@anash.org
SUMMARY:PIRKEI AVOS SHIUR FOR WOMEN
DESCRIPTION:IN MEMORY OF MINIA ESTHER ALPERN BEN SHLOMA SHNEUR ZALMAN 5:30-7:00 PM / MRS. RIVKA KOTLARSKY AT 770 MONTGOMERY STREET
URL:https://anash.org/event/pirkei-avos-shiur-for-women-2/
LOCATION:Congregation Anash\, 770 Montgomery\, Brooklyn\, 12313
CATEGORIES:Shiurim
END:VEVENT
BEGIN:VEVENT
DTSTART;TZID=America/New_York:20240803T173000
DTEND;TZID=America/New_York:20240803T190000
DTSTAMP:20260421T113247
CREATED:20240801T124424Z
LAST-MODIFIED:20240801T131042Z
UID:823858-1722706200-1722711600@anash.org
SUMMARY:PIRKEI AVOS SHIURFOR WOMEN AND GIRLS
DESCRIPTION:5:30-6:015 PM / MRS SHOSHANA DUBROFF = MY LIFE BEFORE MY REAL LIFE = 6:15-7:00 PM RABBI MENDY WOLFF at 770 Montgomery Street
URL:https://anash.org/event/pirkei-avos-shiurfor-women-and-girls/
LOCATION:Congregation Anash\, 770 Montgomery\, Brooklyn\, 12313
CATEGORIES:Shiurim
END:VEVENT
BEGIN:VEVENT
DTSTART;TZID=America/New_York:20240727T173000
DTEND;TZID=America/New_York:20240727T190000
DTSTAMP:20260421T113247
CREATED:20240725T142135Z
LAST-MODIFIED:20240725T144235Z
UID:822143-1722101400-1722106800@anash.org
SUMMARY:PIRKEI AVOS SHIUR FOR WOMEN AND GIRLS
DESCRIPTION:5:30-6:15 / Mrs. Mazal Zirkind  6:15- 7:00 PM / Mrs. Raya Raskin  at  770 Montgomery Street
URL:https://anash.org/event/pirkei-avos-shiur-for-women-and-girls-24/
LOCATION:Congregation Anash\, 770 Montgomery\, Brooklyn\, 12313
CATEGORIES:Shiurim
END:VEVENT
BEGIN:VEVENT
DTSTART;TZID=America/New_York:20240720T173000
DTEND;TZID=America/New_York:20240720T190000
DTSTAMP:20260421T113247
CREATED:20240718T174806Z
LAST-MODIFIED:20240719T035702Z
UID:820271-1721496600-1721502000@anash.org
SUMMARY:IN MEMORY OF REBBE YOSEPH YITZCHOK BEN REBBE  SHOLOMDOV BER SCHNEERSON  --  PIRKEI AVOS SHIUR FOR WOMEN
DESCRIPTION:5:30-7:00 PM /  MRS. SHAINDY JACOBSON at 770 MONTGOMERY STREET
URL:https://anash.org/event/in-memory-of-rebbe-yoseph-yitzchok-ben-rebbe-sholomdov-ber-schneerson-pirkei-avos-shiur-for-women/
LOCATION:congregaion anash\, 770 montgomery street\, Brooklyn\, 11213
CATEGORIES:Shiurim
END:VEVENT
BEGIN:VEVENT
DTSTART;TZID=America/New_York:20240713T173000
DTEND;TZID=America/New_York:20240713T190000
DTSTAMP:20260421T113247
CREATED:20240711T100157Z
LAST-MODIFIED:20240711T131931Z
UID:817926-1720891800-1720897200@anash.org
SUMMARY:IN MEMORY OF RABBI ZALMAN KAZEN BEN MICHOEL - PIRKEI AVOS SHIUR
DESCRIPTION:5:30-6:15 / RABBI ARON LAINE – 6:15-7:00 PM / SHLUCHOS FROM AROUND THE WORLD – AT 770 MONTGOMERY STREET
URL:https://anash.org/event/in-memory-of-rabbi-zalman-kazen-ben-michoel-pirkei-avos-shiur/
LOCATION:Congregation Anash\, 770 Montgomery\, Brooklyn\, 12313
CATEGORIES:Shiurim
END:VEVENT
BEGIN:VEVENT
DTSTART;TZID=America/New_York:20240713T173000
DTEND;TZID=America/New_York:20240713T190000
DTSTAMP:20260421T113247
CREATED:20240710T222120Z
LAST-MODIFIED:20240710T222412Z
UID:817870-1720891800-1720897200@anash.org
SUMMARY:PIRKEI AVOS SHIUR FOR WOMEN AND GIRLS
DESCRIPTION:I N MEMORY OF RABBI ZALMAN KAZEN BEN MICHOEL\n5:30-6:15 / RABBI ARON LAINE FROM PANAMA  –  6:15-7:00:PM / SHLUCHOS FROM AROUND THE WORLD!   COME AND BE INSPIRED! COME AND BRING A FRIEND!!
URL:https://anash.org/event/pirkei-avos-shiur-for-women-and-girls-23/
LOCATION:Congregation Anash\, 770 Montgomery\, Brooklyn\, 12313
CATEGORIES:Shiurim
END:VEVENT
BEGIN:VEVENT
DTSTART;TZID=America/New_York:20240706T173000
DTEND;TZID=America/New_York:20240706T173000
DTSTAMP:20260421T113247
CREATED:20240704T171907Z
LAST-MODIFIED:20240704T193402Z
UID:814909-1720287000-1720287000@anash.org
SUMMARY:PIRKEI AVOS SHIUR FOR WOMEN AND GIRLS
DESCRIPTION:5:30-6:15 pm MRS.HENYA LAINE — 6:15-7:00 PM MRS TOBY LEWIS
URL:https://anash.org/event/pirkei-avos-shiur-for-women-and-girls-22/
LOCATION:Congregation Anash\, 770 Montgomery\, Brooklyn\, 12313
CATEGORIES:Shiurim
END:VEVENT
BEGIN:VEVENT
DTSTART;TZID=America/New_York:20240629T173000
DTEND;TZID=America/New_York:20240629T190000
DTSTAMP:20260421T113247
CREATED:20240627T154211Z
LAST-MODIFIED:20240627T162351Z
UID:813424-1719682200-1719687600@anash.org
SUMMARY:PIRKEI AVOS SHIUR FOR WOMEN AND GIRLS
DESCRIPTION:5:30-6:15 PM – RABBI MICHOEL SELIGSON  6:15-7:00 PM – RABBI NAFTOLI SILBERBERG
URL:https://anash.org/event/pirkei-avos-shiur-for-women-and-girls-21/
LOCATION:Congregation Anash\, 770 Montgomery\, Brooklyn\, 12313
CATEGORIES:Shiurim
END:VEVENT
BEGIN:VEVENT
DTSTART;TZID=America/New_York:20240622T173000
DTEND;TZID=America/New_York:20240622T190000
DTSTAMP:20260421T113247
CREATED:20240621T170108Z
LAST-MODIFIED:20240621T194158Z
UID:812165-1719077400-1719082800@anash.org
SUMMARY:PIRKEI AVOS SHIUR
DESCRIPTION:5:30-6:15 PM RABBI MICHOEL SELIGSON 6:15-7:00 PM MRS KAILA SASONKIN
URL:https://anash.org/event/pirkei-avos-shiur-2/
LOCATION:Congregation Anash\, 770 Montgomery\, Brooklyn\, 12313
CATEGORIES:Shiurim
END:VEVENT
BEGIN:VEVENT
DTSTART;TZID=America/New_York:20240622T173000
DTEND;TZID=America/New_York:20240622T190000
DTSTAMP:20260421T113247
CREATED:20240620T134459Z
LAST-MODIFIED:20240620T142151Z
UID:811688-1719077400-1719082800@anash.org
SUMMARY:PIRKEI AVOS SHIUR FOR WOMEN AND GIRLS
DESCRIPTION:5:30-6:15 RABBI MICHOEL SELIGSON  /  6:15- 7:00 PM MRS. KAILA SASONKIN SHLUCHA  FROM AKRON OHIO
URL:https://anash.org/event/pirkei-avos-shiur-for-women-and-girls-20/
LOCATION:Congregation Anash\, 770 Montgomery\, Brooklyn\, 12313
CATEGORIES:Shiurim
END:VEVENT
BEGIN:VEVENT
DTSTART;TZID=America/New_York:20240615T173000
DTEND;TZID=America/New_York:20240615T190000
DTSTAMP:20260421T113247
CREATED:20240614T135001Z
LAST-MODIFIED:20240614T152413Z
UID:810638-1718472600-1718478000@anash.org
SUMMARY:PIRKEI AVOS SHIUR FOR WOMEN AND GIRLS
DESCRIPTION:5:30-6:15 PM / RABBI MICHOEL SELIGSON – 6:15-7:00 PM MRS. SIMCHA AZULAY (FROM BRAZIL) at CONGREGATIONANASH- 770 MONTGOMERY STREET
URL:https://anash.org/event/pirkei-avos-shiur-for-women-and-girls-19/
LOCATION:Congregation Anash\, 770 Montgomery\, Brooklyn\, 12313
CATEGORIES:Shiurim
END:VEVENT
BEGIN:VEVENT
DTSTART;TZID=America/New_York:20240601T173000
DTEND;TZID=America/New_York:20240601T190000
DTSTAMP:20260421T113247
CREATED:20240530T174641Z
LAST-MODIFIED:20240530T181420Z
UID:806827-1717263000-1717268400@anash.org
SUMMARY:PIRKEI AVOS SHIUR FORWOMEN AND GIRLS
DESCRIPTION:5:30-6:15/ RABBI MICHOEL SELIGSON  6:15-7:00 PM / RABBI MOTTI LIPSKIER AT 770 MONTGOMERY STREET
URL:https://anash.org/event/pirkei-avos-shiur-forwomen-and-girls/
LOCATION:Congregation Anash\, 770 Montgomery\, Brooklyn\, 12313
CATEGORIES:Shiurim
END:VEVENT
BEGIN:VEVENT
DTSTART;TZID=America/New_York:20240525T173000
DTEND;TZID=America/New_York:20240525T190000
DTSTAMP:20260421T113247
CREATED:20240524T113122Z
LAST-MODIFIED:20240524T163328Z
UID:804426-1716658200-1716663600@anash.org
SUMMARY:PIRKEI AVOS SHIUR FOR WOMEN AND GIRLS
DESCRIPTION:5:30-6:15 PM / RABBI MICHOEL SELIGSON – 6:15- 7:00 PM /  MRS RIVKAH TORENHEIM – ATCONGREGATION ANASH – 770 MONTGOMERY STREET
URL:https://anash.org/event/pirkei-avos-shiur-for-women-and-girls-18/
LOCATION:CONGREGATION ANASH-\, 770 MONTGOMERY\, BROOKLYN\, 11213_
CATEGORIES:Shiurim
END:VEVENT
BEGIN:VEVENT
DTSTART;TZID=America/New_York:20240518T173000
DTEND;TZID=America/New_York:20240518T190000
DTSTAMP:20260421T113247
CREATED:20240516T234141Z
LAST-MODIFIED:20240517T000833Z
UID:802307-1716053400-1716058800@anash.org
SUMMARY:PIRKEI AVOS SHIUR FOR WOMEN AND GIRLS
DESCRIPTION:5:30-6:15 PM / RABBI MICHOEL SELIGSON — 6:15-7:00 PM / MRS. SARA AZIMOV –AT CONGREGATION ANAS – 770 MONTGOMERY STREET
URL:https://anash.org/event/pirkei-avos-shiur-for-women-and-girls-17/
LOCATION:CONGREGATION ANASH –\, 770 Montgomery Street\, Brooklyn\, 11213
CATEGORIES:Shiurim
END:VEVENT
BEGIN:VEVENT
DTSTART;TZID=America/New_York:20240511T173000
DTEND;TZID=America/New_York:20240511T190000
DTSTAMP:20260421T113247
CREATED:20240509T150200Z
LAST-MODIFIED:20240509T151658Z
UID:800860-1715448600-1715454000@anash.org
SUMMARY:PIRKEI AVOS SHIUR FOR WOMEN AND GIRLS
DESCRIPTION:5:30-6:15 PM / RABBI MICHOEL SELIGSON\n6:15-7:00 PM / RABBI LEVI KAPLAN –\nAT CONGREGATION ANASH – 770 MONTGOMERY STREET\nCOME AND BE INSPIRED!
URL:https://anash.org/event/pirkei-avos-shiur-for-women-and-girls-16/
LOCATION:Congtegation Anash\, 766 Montgomery street\, Brooklyn\, NY\, 11213
CATEGORIES:Shiurim
END:VEVENT
BEGIN:VEVENT
DTSTART;TZID=America/New_York:20240504T173000
DTEND;TZID=America/New_York:20240504T190000
DTSTAMP:20260421T113247
CREATED:20240502T171558Z
LAST-MODIFIED:20240502T173433Z
UID:799724-1714843800-1714849200@anash.org
SUMMARY:Pikei Avos Shiur For Women And Girls
DESCRIPTION:5:30- 6:15 pm / Rabbi Michoel Seligson – 6:15- 7:00 PM / Rabbi Levi Y. Blizinsky Principal of “Tag” of Florida. Come and be inspired!
URL:https://anash.org/event/pikei-avos-shiur-for-women-and-girls-2/
LOCATION:Congregation Anash\, 770 Montgomery\, Brooklyn\, 12313
CATEGORIES:Shiurim
END:VEVENT
BEGIN:VEVENT
DTSTART;TZID=America/New_York:20230909T173000
DTEND;TZID=America/New_York:20230909T190000
DTSTAMP:20260421T113247
CREATED:20230907T213927Z
LAST-MODIFIED:20230907T222024Z
UID:669879-1694280600-1694286000@anash.org
SUMMARY:LAST HAKHEL - PIRKEI AVOS FOR WOMEN AND GIRLS
DESCRIPTION:RABBI MICHOEL SELIGSON  = MRS MIRA GURARY
URL:https://anash.org/event/last-hakhel-pirkei-avos-for-women-and-girls/
LOCATION:CONGREGATION ANASH – 770 MONTGOMERY STREET FRONT WALK IN\, 770 MONTGOMERY FRONT WALK IN\, BROOKLYN
CATEGORIES:Shiurim
END:VEVENT
BEGIN:VEVENT
DTSTART;TZID=America/New_York:20230902T173000
DTEND;TZID=America/New_York:20230902T190000
DTSTAMP:20260421T113247
CREATED:20230831T170024Z
LAST-MODIFIED:20230831T180614Z
UID:665410-1693675800-1693681200@anash.org
SUMMARY:PIRKEI AVOS SHIUR FOR WOMEN AND GIRLS
DESCRIPTION:Mrs. Frida Schapiro\nMrs. Goldie Gansbourg
URL:https://anash.org/event/pirkei-avos-shiur-for-women-and-girls-15/
LOCATION:Congregation Anash\, 770 Montgomery\, Brooklyn\, 12313
CATEGORIES:Shiurim
END:VEVENT
BEGIN:VEVENT
DTSTART;TZID=America/New_York:20230819T173000
DTEND;TZID=America/New_York:20230819T190000
DTSTAMP:20260421T113247
CREATED:20230817T135530Z
LAST-MODIFIED:20230817T181337Z
UID:656923-1692466200-1692471600@anash.org
SUMMARY:PIRKEI AVOS SHIUR FOR WOMEN AND GIRLS
DESCRIPTION:RABBI MICHOEL SELIGSON  –  MRS. SIMI HECHT
URL:https://anash.org/event/pirkei-avos-shiur-for-women-and-girls-14/
LOCATION:congregationanash\, 770 Montgomery\, Brooklyn\, 11213
CATEGORIES:Shiurim
END:VEVENT
END:VCALENDAR