BEGIN:VCALENDAR
VERSION:2.0
PRODID:-//Anash.org - ECPv6.15.20//NONSGML v1.0//EN
CALSCALE:GREGORIAN
METHOD:PUBLISH
X-WR-CALNAME:Anash.org
X-ORIGINAL-URL:https://anash.org
X-WR-CALDESC:Events for Anash.org
REFRESH-INTERVAL;VALUE=DURATION:PT1H
X-Robots-Tag:noindex
X-PUBLISHED-TTL:PT1H
BEGIN:VTIMEZONE
TZID:America/New_York
BEGIN:DAYLIGHT
TZOFFSETFROM:-0500
TZOFFSETTO:-0400
TZNAME:EDT
DTSTART:20180311T070000
END:DAYLIGHT
BEGIN:STANDARD
TZOFFSETFROM:-0400
TZOFFSETTO:-0500
TZNAME:EST
DTSTART:20181104T060000
END:STANDARD
BEGIN:DAYLIGHT
TZOFFSETFROM:-0500
TZOFFSETTO:-0400
TZNAME:EDT
DTSTART:20190310T070000
END:DAYLIGHT
BEGIN:STANDARD
TZOFFSETFROM:-0400
TZOFFSETTO:-0500
TZNAME:EST
DTSTART:20191103T060000
END:STANDARD
BEGIN:DAYLIGHT
TZOFFSETFROM:-0500
TZOFFSETTO:-0400
TZNAME:EDT
DTSTART:20200308T070000
END:DAYLIGHT
BEGIN:STANDARD
TZOFFSETFROM:-0400
TZOFFSETTO:-0500
TZNAME:EST
DTSTART:20201101T060000
END:STANDARD
BEGIN:DAYLIGHT
TZOFFSETFROM:-0500
TZOFFSETTO:-0400
TZNAME:EDT
DTSTART:20210314T070000
END:DAYLIGHT
BEGIN:STANDARD
TZOFFSETFROM:-0400
TZOFFSETTO:-0500
TZNAME:EST
DTSTART:20211107T060000
END:STANDARD
BEGIN:DAYLIGHT
TZOFFSETFROM:-0500
TZOFFSETTO:-0400
TZNAME:EDT
DTSTART:20220313T070000
END:DAYLIGHT
BEGIN:STANDARD
TZOFFSETFROM:-0400
TZOFFSETTO:-0500
TZNAME:EST
DTSTART:20221106T060000
END:STANDARD
BEGIN:DAYLIGHT
TZOFFSETFROM:-0500
TZOFFSETTO:-0400
TZNAME:EDT
DTSTART:20230312T070000
END:DAYLIGHT
BEGIN:STANDARD
TZOFFSETFROM:-0400
TZOFFSETTO:-0500
TZNAME:EST
DTSTART:20231105T060000
END:STANDARD
BEGIN:DAYLIGHT
TZOFFSETFROM:-0500
TZOFFSETTO:-0400
TZNAME:EDT
DTSTART:20240310T070000
END:DAYLIGHT
BEGIN:STANDARD
TZOFFSETFROM:-0400
TZOFFSETTO:-0500
TZNAME:EST
DTSTART:20241103T060000
END:STANDARD
BEGIN:DAYLIGHT
TZOFFSETFROM:-0500
TZOFFSETTO:-0400
TZNAME:EDT
DTSTART:20250309T070000
END:DAYLIGHT
BEGIN:STANDARD
TZOFFSETFROM:-0400
TZOFFSETTO:-0500
TZNAME:EST
DTSTART:20251102T060000
END:STANDARD
BEGIN:DAYLIGHT
TZOFFSETFROM:-0500
TZOFFSETTO:-0400
TZNAME:EDT
DTSTART:20260308T070000
END:DAYLIGHT
BEGIN:STANDARD
TZOFFSETFROM:-0400
TZOFFSETTO:-0500
TZNAME:EST
DTSTART:20261101T060000
END:STANDARD
END:VTIMEZONE
BEGIN:VEVENT
DTSTART;TZID=America/New_York:20251209T080000
DTEND;TZID=America/New_York:20251209T213000
DTSTAMP:20260421T172437
CREATED:20251208T162608Z
LAST-MODIFIED:20251208T181055Z
UID:1002354-1765267200-1765315800@anash.org
SUMMARY:Shiva information
DESCRIPTION:Shmuel M   Hildeshaim will be sitting shiva for his mother TOMORROW TUESDAY in Crown Heights at 485 Brooklyn Ave\nShacharis at 8 AM\nMincha and Maariv bizmanum
URL:https://anash.org/event/shiva-information/
CATEGORIES:Other
END:VEVENT
BEGIN:VEVENT
DTSTART;TZID=America/New_York:20250911T120000
DTEND;TZID=America/New_York:20250911T130000
DTSTAMP:20260421T172437
CREATED:20250910T155813Z
LAST-MODIFIED:20250910T162550Z
UID:971434-1757592000-1757595600@anash.org
SUMMARY:Chai Elul Gathering for Eretz Yisroel
DESCRIPTION:בהמשך הבנין תנוחמון\nWe sow with tears\, but we will reap with joy!\nJoin us for an hour of hope and inspiration building up the Land of Israel in Judea\, Samaria\, Gaza and Yerushalayim\nSpecial Guest Speakers from Nachala\, The Gush Katif Forum and Ateret Cohanim\nThursday\, September 11 | Noon EST * 7pm in Israel                                                                                      Zoom Link: https://bit.ly/chaielulconference\n(to join\, copy and paste the link in your browser)\nHosted by Crown Heights Women for the Safety and Integrity of Israel
URL:https://anash.org/event/chai-elul-gathering-for-eretz-yisroel/
LOCATION:Zoom\, 1714 President Street\, Brooklyn\, NY\, 11213
CATEGORIES:Other
ATTACH;FMTTYPE=image/png:https://files.anash.org/uploads/2025/09/Chai-Elul-Consolation-in-Building.png
END:VEVENT
BEGIN:VEVENT
DTSTART;TZID=America/New_York:20250814T130000
DTEND;TZID=America/New_York:20250814T140000
DTSTAMP:20260421T172437
CREATED:20250811T213634Z
LAST-MODIFIED:20250812T020847Z
UID:948534-1755176400-1755180000@anash.org
SUMMARY:Flower Essence Wellness Workshop
DESCRIPTION:Join us for the first in a series of free Flower Essence Wellness Workshops on Zoom with Tamar Adelstein & Baila Fischer\nTopic: Getting a Good Night’s Sleep\, Resting Mind\, Body & Soul\nThis Thursday\, August 14\, 2025\n8pm in Israel | 1pm EST\nClick the LINK HERE to join the Zoom: bit.ly/floweressenceworkshops\n(the one on the flyer will not open the program for you)\nTo Learn More and Register: https://www.juneberrytreeartandessences.com/flower-essence-arts
URL:https://anash.org/event/flower-essence-wellness-workshop/
LOCATION:Zoom\, 1714 President Street\, Brooklyn\, NY\, 11213
CATEGORIES:Other
ATTACH;FMTTYPE=image/png:https://files.anash.org/uploads/2025/08/Getting-a-Good-Nights-Sleep.png
END:VEVENT
BEGIN:VEVENT
DTSTART;TZID=America/New_York:20250618T133000
DTEND;TZID=America/New_York:20250618T143000
DTSTAMP:20260421T172437
CREATED:20250617T171645Z
LAST-MODIFIED:20250617T181735Z
UID:926335-1750253400-1750257000@anash.org
SUMMARY:Staying Calm in the Midst of War
DESCRIPTION:This free Wellness Workshop for our fellow Jews in Israel (and anyone else in need) led by certified Bach Flower practitioners Tamar Adelstein & Baila Fischer will introduce Flower Essences and show how to prepare and share Rescue Remedy when sheltering in Protected Spaces and at any time in between | Wednesday\, June 18 | 8:30pm in Israel | 1:30pm EST | Zoom link:  https://bit.ly/4n6xYSe | Learn More:  http://www.juneberrytreeartandessences.com
URL:https://anash.org/event/staying-calm-in-the-midst-of-war/
LOCATION:Flower Essence Therapy of Crown Heights\, 1714 President Street\, Brooklyn\, NY\, 11213
CATEGORIES:Other
ATTACH;FMTTYPE=image/png:https://files.anash.org/uploads/2025/06/Flower-Essence-Wellness-Workshop-with-Rescue-Remedy.png
END:VEVENT
BEGIN:VEVENT
DTSTART;TZID=America/New_York:20250608T180000
DTEND;TZID=America/New_York:20250608T200000
DTSTAMP:20260421T172437
CREATED:20250604T222751Z
LAST-MODIFIED:20250604T223529Z
UID:922569-1749405600-1749412800@anash.org
SUMMARY:The 11th Shleimus HaAretz Conference for Israel
DESCRIPTION:Honoring the Rebbe’s legacy of leadership under the banner for Shleimus HaAretz – preserving Israel’s territorial integrity in order to protect Jewish lives – Pikuach Nefesh | THIS SUNDAY\, JUNE 8 \, 2025 | 6-8PM | The Juneberry Tree Art Gallery | Benefitting Nachala reJEWvenating the Gaza Frontier for lasting peace & security | Courvert $25 | By Reservation ONLY | Learn More:  https://bit.ly/Shleimus-HaAretz-2025
URL:https://anash.org/event/the-11th-shleimus-haaretz-conference-for-israel/
LOCATION:The Juneberry Tree Art Gallery\, 1714 President Street\, Brooklyn\, NY\, 11213
CATEGORIES:Other
ATTACH;FMTTYPE=image/png:https://files.anash.org/uploads/2025/06/The-Shleimus-HaAretz-Conference-2025-2.png
END:VEVENT
BEGIN:VEVENT
DTSTART;TZID=America/New_York:20220710T100000
DTEND;TZID=America/New_York:20220710T160000
DTSTAMP:20260421T172437
CREATED:20220704T190103Z
LAST-MODIFIED:20220705T154400Z
UID:423440-1657447200-1657468800@anash.org
SUMMARY:A Bubble Adventure
DESCRIPTION:Blow… Catch… Pop… Join us as we dive into the most mesmerizing bubble adventure of your life\, where we go from learning what a bubble is to having that wonderful feeling of endless bubble fun!\nThe Jewish Children’s Museum is inviting children and “children at heart” to be enamored by bubbles\, and its sparkle at the “A Bubble Adventure”. Learn why bubbles pop\, how bubbles work\, what is a bubble\, and then experiment with bubbles in our Bubble Sensory Room. \nHop on over\, to the space “where time stops & adventure begins”!\nJoin the Jewish Children’s Museum June 26 –August 21\, 2022. Visit our website https://www.jcm.museum/upcoming-programs/ \, or call 718-907-8833\, for more information and booking your ticket.\n792 Eastern Parkway\, Brooklyn NY\, 11213
URL:https://anash.org/event/a-bubble-adventure-2/
LOCATION:Jewish Children’s Museum\, 792 Eastern Pkwy\, Brooklyn\, NY\, 11213\, United States
CATEGORIES:Other
ATTACH;FMTTYPE=image/jpeg:https://files.anash.org/uploads/2022/07/IMG_2003-1-scaled.jpg
END:VEVENT
BEGIN:VEVENT
DTSTART;TZID=America/New_York:20220522T133000
DTEND;TZID=America/New_York:20220522T170000
DTSTAMP:20260421T172437
CREATED:20220516T181609Z
LAST-MODIFIED:20220517T185719Z
UID:397058-1653226200-1653238800@anash.org
SUMMARY:Torah Unwrapped
DESCRIPTION:Calendar Listings Torah Unwrapped 5782\nTorah Unwrapped!\nJourney along with the Jewish Children’s Museum\, as we explore the craftsmanship to become a Sofer-Scribe. Uncover the history of hundred-year-old Torah scrolls; sand and scrape unfinished hides for parchment; mix the ink and watch the scribe as he practices his “scribal scribble” on a piece of parchment.\nJoin the Jewish Children’s Museum May 22\, 2022 & May 29\,2022\, to join “Torah Unwrapped”.  Visit our website https://www.jcm.museum/upcoming-programs/ \, for more information and booking your ticket.
URL:https://anash.org/event/torah-unwrapped/
LOCATION:Jewish Children’s Museum\, 792 Eastern Pkwy\, Brooklyn\, NY\, 11213\, United States
CATEGORIES:Other
ATTACH;FMTTYPE=image/jpeg:https://files.anash.org/uploads/2022/05/safrus-2-scaled.jpg
END:VEVENT
BEGIN:VEVENT
DTSTART;TZID=America/New_York:20220220T100000
DTEND;TZID=America/New_York:20220316T160000
DTSTAMP:20260421T172437
CREATED:20220214T171649Z
LAST-MODIFIED:20220214T221136Z
UID:356389-1645351200-1647446400@anash.org
SUMMARY:Pre Purim Fun
DESCRIPTION:Close your eyes and imagine the smell of cookie dough\, and jam\, Hearing the sound of a noisy gragger\, seeing friends dressed up in colorful costumes\, pinching together circular dough\, and the taste of a fresh hamentasch entering your belly.   Now open your eyes! This is not an imaginary story; this is the party happening at the Jewish Children’s Museum’s Pre Purim Fun.\nCome dressed up to The Pre-Purim Fun at the Jewish Children’s Museum February 20 – March 16. Visit www.jcm.museum for program hours\, more information\, and booking your ticket\, or Call 718-907-8803
URL:https://anash.org/event/pre-purim-fun-2/
LOCATION:Jewish Children’s Museum\, 792 Eastern Pkwy\, Brooklyn\, NY\, 11213\, United States
CATEGORIES:Other
ATTACH;FMTTYPE=image/jpeg:https://files.anash.org/uploads/2022/02/Pre-Purim-Fun.jpg
END:VEVENT
BEGIN:VEVENT
DTSTART;TZID=America/New_York:20211226T100000
DTEND;TZID=America/New_York:20211230T160000
DTSTAMP:20260421T172437
CREATED:20211214T174442Z
LAST-MODIFIED:20211214T190235Z
UID:332119-1640512800-1640880000@anash.org
SUMMARY:The Chocolate Makery @ The Jewish Children's Museum
DESCRIPTION:The Chocolate Makery at the Jewish Children’s Museum.\nA mouthwatering experience where children will gain a wealth of knowledge on this exciting journey.\nChildren will join in the fun as they harvest the cocoa pods\, grind and roast the beans to mold their very own delicious chocolate creation!\nThe Chocolate Makery Experience will be running December 26 – December 30\, at the Jewish Children’s Museum at 792 Eastern Pkwy\, Brooklyn NY\, 11213 Visit our website\, https://www.jcm.museum \, for more information.
URL:https://anash.org/event/the-chocolate-makery-the-jewish-childrens-museum/
LOCATION:Jewish Children’s Museum\, 792 Eastern Pkwy\, Brooklyn\, NY\, 11213\, United States
CATEGORIES:Other
ATTACH;FMTTYPE=image/jpeg:https://files.anash.org/uploads/2021/12/chocolate-makery-chocolate-making.jpg
END:VEVENT
BEGIN:VEVENT
DTSTART;TZID=America/New_York:20210316T130000
DTEND;TZID=America/New_York:20210316T140000
DTSTAMP:20260421T172437
CREATED:20210315T171530Z
LAST-MODIFIED:20210315T181539Z
UID:222729-1615899600-1615903200@anash.org
SUMMARY:Security & Sovereignty Over The Land Of Israel - Halachic Priorities and the Upcoming Israeli Election
DESCRIPTION:BS”D\nTODAY\, TUESDAY\, MARCH 16TH @ 1pm (NYC time)\, 6pm in Israel on Zoom\nJoin Crown Hts Women for the Safety & Integrity of Israel\nfor an in-depth discussion Security & Sovereignty Over The Land Of Israel – Halachic priorities and the upcoming Israeli election with\nRabbi Mendy Mirocznik\, Executive President of Igud HaRabbonim\nThe Rabbinical Alliance of America\nTo Register in advance for this meeting:\nhttps://us02web.zoom.us/meeting/register/tZEtdOyhrTkvEtFEK_9BxPKoKPYRfUbO6vRC\nAfter registering\, you will receive a confirmation email\ncontaining information about joining the meeting.
URL:https://anash.org/event/security-sovereignty-over-the-land-of-israel-halachic-priorities-and-the-upcoming-israeli-election/
LOCATION:Zoom\, 1714 President Street\, Brooklyn\, NY\, 11213
CATEGORIES:Other
END:VEVENT
BEGIN:VEVENT
DTSTART;TZID=America/New_York:20210303T200000
DTEND;TZID=America/New_York:20210303T210000
DTSTAMP:20260421T172437
CREATED:20210301T144909Z
LAST-MODIFIED:20210301T181940Z
UID:218589-1614801600-1614805200@anash.org
SUMMARY:The Beauty of Pesach : Tips to Clear That Physical\, Emotional & Spiritual Clutter
DESCRIPTION:While Pesach is officially around the corner it’s far enough away to prioritize\, leverage your time and energy and help your family enjoy the preparations. Join Rivka Caroline’s free zoom class this Wednesday at 8pm EST to find out how.\nEmail info@sobeorganized.com to register and ask any questions you’d like to see covered.
URL:https://anash.org/event/the-beauty-of-pesach-tips-to-clear-that-physical-emotional-spiritual-clutter/
LOCATION:Zoom
CATEGORIES:Other
ATTACH;FMTTYPE=image/jpeg:https://files.anash.org/uploads/2021/03/jpeg.jpg
END:VEVENT
BEGIN:VEVENT
DTSTART;TZID=America/New_York:20201228T133000
DTEND;TZID=America/New_York:20201231T140000
DTSTAMP:20260421T172437
CREATED:20201116T180202Z
LAST-MODIFIED:20201116T180530Z
UID:186758-1609162200-1609423200@anash.org
SUMMARY:Virtual Science Lab
DESCRIPTION:Nothing screams electrifying\, as much as a child squealing in wonder as a science experiment unfolds in front of their eyes.\nStatistics say\, “The best way for children to learn and understand what they are taught is through hands-on experience.”  With great excitement\, the Jewish Children’s Museum is delighted to give your child the chance to learn about the Jewish culture through Science\, with Science In A Box!\nWatch as your child Experiments with diverse mediums\, observing with surprise the outcomes. The discussions coming forth will definitely be some of purpose and growth; a captivating week your child will cherish forever.\nHop on the bandwagon today and join our Virtual Workshop with a hands-on approach\, geared for children ages 4+. Your little scientist will receive 4 days’ worth of experiments\, a 30 min interactive virtual workshop\, delivered to your door for only $35 per child.\nThe Interactive Science Week will be airing December 28 – December 31. Visit our website\, https://jcm.centeredgeonline.com/retail/item/416\, for more information.\nDeadline to order Kits: 12/18/2020\n(Image is for display purposes only)
URL:https://anash.org/event/virtual-science-lab/
LOCATION:Jewish Children’s Museum\, 792 Eastern Pkwy\, Brooklyn\, NY\, 11213\, United States
CATEGORIES:Other
ATTACH;FMTTYPE=image/jpeg:https://files.anash.org/uploads/2020/11/snow-storm-in-a-cup-x2.jpg
END:VEVENT
BEGIN:VEVENT
DTSTART;TZID=America/New_York:20201101T124500
DTEND;TZID=America/New_York:20210311T124500
DTSTAMP:20260421T172437
CREATED:20201030T164235Z
LAST-MODIFIED:20201030T164840Z
UID:182123-1604234700-1615466700@anash.org
SUMMARY:New Daily Mincha Minyan @ 12:45pm at Bais Levi Yitzchak Shul
DESCRIPTION:Starting this Sunday daily Minchah Minyan @ 12:45pm\nBais Levi Yitzchak Shul\n556 Crown Street\, Brooklyn New York side entrance\nMaariv @ 6:30pm
URL:https://anash.org/event/new-daily-mincha-minyan-1245pm-at-bais-levi-yitzchak-shul/
LOCATION:Bais Levi Yitzchak\, 556 Crown St\, Brooklyn\, NY\, 11213\, United States
CATEGORIES:Other
END:VEVENT
BEGIN:VEVENT
DTSTART;TZID=America/New_York:20200807T133000
DTEND;TZID=America/New_York:20200807T133000
DTSTAMP:20260421T172437
CREATED:20200804T153808Z
LAST-MODIFIED:20200804T155620Z
UID:154915-1596807000-1596807000@anash.org
SUMMARY:Girls’ Mivtzoim Group
DESCRIPTION:Geared for girls in grades 5-6\, after-camp group going on mivtzoim with chaperones. Message or call Rivky at 845 393 1951 to join & to get meeting place information. Arranged by Lubavitch Youth Org.
URL:https://anash.org/event/girls-mivtzoim-group/
LOCATION:RSVP for meeting place location
CATEGORIES:Other
END:VEVENT
BEGIN:VEVENT
DTSTART;TZID=America/New_York:20200702T193000
DTEND;TZID=America/New_York:20200702T193000
DTSTAMP:20260421T172437
CREATED:20200701T220913Z
LAST-MODIFIED:20200701T231200Z
UID:143123-1593718200-1593718200@anash.org
SUMMARY:Yarzheit Gathering
DESCRIPTION:Please join us in honoring the 5th Yarzheit of Rabbi Yekutiel Menachem Rapp bn R’ Shrage A”H.\nDate: Thursday\, July2/ Yud Taamuz\nTime: 7:30\nZoom # 446 946 1920\nCall in: 646 558 8685\nSpeakers: Rabbi Chaim Levi Goldstein and Rabbi Eliezer Gold
URL:https://anash.org/event/yarzheit-gathering/
LOCATION:Zoom
CATEGORIES:Other
ATTACH;FMTTYPE=image/png:https://files.anash.org/uploads/2020/07/20200701_180327_0000.png
END:VEVENT
BEGIN:VEVENT
DTSTART;TZID=America/New_York:20200309T193000
DTEND;TZID=America/New_York:20200309T193000
DTSTAMP:20260421T172437
CREATED:20200309T030902Z
LAST-MODIFIED:20200309T031033Z
UID:113632-1583782200-1583782200@anash.org
SUMMARY:Purim Bash for the entire family
DESCRIPTION:6:30pm Machatzis Hashekel (Half a Shekel) Before Mincha\n6:35pm Mincha – You can give of Mattanot L’Evyonim through Bais Levi Yitzchak Shul \n7:24pm Maariv/Fast Ends\n7:30pm Megillah Reading / There will be simultaneously Megillah reading for women with children\nFOLLOWED BY BREAKING THE FAST & PURIM BASH\n**Fun Entertainment for the entire family** ***Drum Circle *** Photo Booth***\n**Games ** Booth ** Inflatables ** **Face painting ** Candy Art **\n**Carnival Style Cotton Candy** Nosh** Music**
URL:https://anash.org/event/purim-bash-for-the-entire-family/
LOCATION:Bais Levi Yitzchak\, 556 Crown St\, Brooklyn\, NY\, 11213\, United States
CATEGORIES:Other
END:VEVENT
BEGIN:VEVENT
DTSTART;TZID=America/New_York:20200224T150000
DTEND;TZID=America/New_York:20200226T150000
DTSTAMP:20260421T172437
CREATED:20191224T040052Z
LAST-MODIFIED:20191226T232359Z
UID:88085-1582556400-1582729200@anash.org
SUMMARY:Awakening Retreat
DESCRIPTION:RETREAT FOR WOMEN: \nJoin great coaches\, mentors and amazing like-minded women for two and a half days of pure YOU TIME!!\nA weekend for the heart\, mind\, body\, soul.. Activities include: BONFIRES. SELF GROWTH. WORKSHOPS. GREAT FOOD. ART NIGHT. ROPES COURSE. NATURE AND FRESH AIR\nwww.jewishwomenawaken.org/awakeningretreat \nThe Awakening retreat is a step into a world of fun\, healing\, nature\, connection and possibilities. Our program is crafted with expertise and precision – yet you will feel more free than ever. We aim to carefully create our container – weave our nest so you can have gentle epiphanies and new awareness leading to positive change that lasts. \nThe flow of the retreat will take you from bonfires\, to inspirational and fun workshops\, to a wander in nature to a full spectrum art night\, and a ropes course without noticing the time passing! you will learn to flow with yourself better. To awaken out of the story that tells you you’re not good enough. That you have no power. That you’re anything other than beautiful. You are vital in leading our families and communities to a world of Peace/Moshiach! It’s up to US. Now more than ever we need to deeply nourish our minds/bodies/souls! \nwww.jewishwomenawaken.org/awakeningretreat
URL:https://anash.org/event/awakening-retreat/
LOCATION:florida\, 7495 Park Lane Rd\, Lakeworth\, 33449
CATEGORIES:Other
ATTACH;FMTTYPE=image/jpeg:https://files.anash.org/uploads/2019/12/retreat-flyer-scaled.jpg
END:VEVENT
BEGIN:VEVENT
DTSTART;TZID=America/New_York:20200115T201500
DTEND;TZID=America/New_York:20200115T201500
DTSTAMP:20260421T172437
CREATED:20200111T234626Z
LAST-MODIFIED:20200111T235711Z
UID:94590-1579119300-1579119300@anash.org
SUMMARY:ATIME Crown Heights
DESCRIPTION:ATIME Crown Heights invites you to a Farbrengen on Bitachon and Simcha. This event is ONLY for women going through the journey of primary infertility. When mentioning this event to family and friends\, please do so with sensitivity. For more information please contact us at atimech@gmail.com
URL:https://anash.org/event/atime-crown-heights-2/
LOCATION:New York
CATEGORIES:Other
END:VEVENT
BEGIN:VEVENT
DTSTART;TZID=America/New_York:20191220T210000
DTEND;TZID=America/New_York:20191220T210000
DTSTAMP:20260421T172437
CREATED:20191219T152438Z
LAST-MODIFIED:20191223T190248Z
UID:86478-1576875600-1576875600@anash.org
SUMMARY:WOMEN'S ONEG SHABBOS
DESCRIPTION:Friday Night Gathering. Speaker: Rabbi S. Zalman Aron Friedman. Hostess: Mrs. Shoshana Rabkin. 503 Crown St. (between Kingston & Albany Aves).
URL:https://anash.org/event/womens-oneg-shabbos-6/
LOCATION:503 Crown St. (between Kingston & Albany Aves).
CATEGORIES:Other
END:VEVENT
END:VCALENDAR