BEGIN:VCALENDAR
VERSION:2.0
PRODID:-//Anash.org - ECPv6.15.20//NONSGML v1.0//EN
CALSCALE:GREGORIAN
METHOD:PUBLISH
X-WR-CALNAME:Anash.org
X-ORIGINAL-URL:https://anash.org
X-WR-CALDESC:Events for Anash.org
REFRESH-INTERVAL;VALUE=DURATION:PT1H
X-Robots-Tag:noindex
X-PUBLISHED-TTL:PT1H
BEGIN:VTIMEZONE
TZID:America/New_York
BEGIN:DAYLIGHT
TZOFFSETFROM:-0500
TZOFFSETTO:-0400
TZNAME:EDT
DTSTART:20180311T070000
END:DAYLIGHT
BEGIN:STANDARD
TZOFFSETFROM:-0400
TZOFFSETTO:-0500
TZNAME:EST
DTSTART:20181104T060000
END:STANDARD
BEGIN:DAYLIGHT
TZOFFSETFROM:-0500
TZOFFSETTO:-0400
TZNAME:EDT
DTSTART:20190310T070000
END:DAYLIGHT
BEGIN:STANDARD
TZOFFSETFROM:-0400
TZOFFSETTO:-0500
TZNAME:EST
DTSTART:20191103T060000
END:STANDARD
BEGIN:DAYLIGHT
TZOFFSETFROM:-0500
TZOFFSETTO:-0400
TZNAME:EDT
DTSTART:20200308T070000
END:DAYLIGHT
BEGIN:STANDARD
TZOFFSETFROM:-0400
TZOFFSETTO:-0500
TZNAME:EST
DTSTART:20201101T060000
END:STANDARD
BEGIN:DAYLIGHT
TZOFFSETFROM:-0500
TZOFFSETTO:-0400
TZNAME:EDT
DTSTART:20210314T070000
END:DAYLIGHT
BEGIN:STANDARD
TZOFFSETFROM:-0400
TZOFFSETTO:-0500
TZNAME:EST
DTSTART:20211107T060000
END:STANDARD
BEGIN:DAYLIGHT
TZOFFSETFROM:-0500
TZOFFSETTO:-0400
TZNAME:EDT
DTSTART:20220313T070000
END:DAYLIGHT
BEGIN:STANDARD
TZOFFSETFROM:-0400
TZOFFSETTO:-0500
TZNAME:EST
DTSTART:20221106T060000
END:STANDARD
BEGIN:DAYLIGHT
TZOFFSETFROM:-0500
TZOFFSETTO:-0400
TZNAME:EDT
DTSTART:20230312T070000
END:DAYLIGHT
BEGIN:STANDARD
TZOFFSETFROM:-0400
TZOFFSETTO:-0500
TZNAME:EST
DTSTART:20231105T060000
END:STANDARD
BEGIN:DAYLIGHT
TZOFFSETFROM:-0500
TZOFFSETTO:-0400
TZNAME:EDT
DTSTART:20240310T070000
END:DAYLIGHT
BEGIN:STANDARD
TZOFFSETFROM:-0400
TZOFFSETTO:-0500
TZNAME:EST
DTSTART:20241103T060000
END:STANDARD
BEGIN:DAYLIGHT
TZOFFSETFROM:-0500
TZOFFSETTO:-0400
TZNAME:EDT
DTSTART:20250309T070000
END:DAYLIGHT
BEGIN:STANDARD
TZOFFSETFROM:-0400
TZOFFSETTO:-0500
TZNAME:EST
DTSTART:20251102T060000
END:STANDARD
BEGIN:DAYLIGHT
TZOFFSETFROM:-0500
TZOFFSETTO:-0400
TZNAME:EDT
DTSTART:20260308T070000
END:DAYLIGHT
BEGIN:STANDARD
TZOFFSETFROM:-0400
TZOFFSETTO:-0500
TZNAME:EST
DTSTART:20261101T060000
END:STANDARD
BEGIN:DAYLIGHT
TZOFFSETFROM:-0500
TZOFFSETTO:-0400
TZNAME:EDT
DTSTART:20270314T070000
END:DAYLIGHT
BEGIN:STANDARD
TZOFFSETFROM:-0400
TZOFFSETTO:-0500
TZNAME:EST
DTSTART:20271107T060000
END:STANDARD
END:VTIMEZONE
BEGIN:VEVENT
DTSTART;TZID=America/New_York:20260419T203000
DTEND;TZID=America/New_York:20260419T234500
DTSTAMP:20260421T174855
CREATED:20260417T014328Z
LAST-MODIFIED:20260417T020506Z
UID:1049246-1776630600-1776642300@anash.org
SUMMARY:Beis iyar farbrengen
DESCRIPTION:Farbrengen with Rabbi Nachman Shapiro\, in honor of the birth day of the Rebbe Maharash
URL:https://anash.org/event/beis-iyar-farbrengen/
LOCATION:Lefferts Shul\, 672 lefferts Avenue\, Brooklyn NY\, NY\, 11203\, United States
CATEGORIES:Farbrengen
END:VEVENT
BEGIN:VEVENT
DTSTART;TZID=America/New_York:20250629T213000
DTEND;TZID=America/New_York:20250629T234500
DTSTAMP:20260421T174855
CREATED:20250629T212141Z
LAST-MODIFIED:20250630T024004Z
UID:933019-1751232600-1751240700@anash.org
SUMMARY:Live: 3 Tammuz Farbrengen With Rabbi Heschel Greenberg
DESCRIPTION:Join Live at 9:30 PM ET: A Farbrengen will take place in Buffalo\, NY with Shliach and educator Rabbi Heschel Greenberg at the Jewish Discovery Center.
URL:https://anash.org/event/live-3-tammuz-farbrengen-with-rabbi-heschel-greenberg/
LOCATION:Jewish Discovery Center\, 831 Maple Rd.\, Buffalo\, 14221
CATEGORIES:Farbrengen
ATTACH;FMTTYPE=image/jpeg:https://files.anash.org/uploads/2025/06/0638c09d-a8ae-4bc9-8c52-37d7c4bed326.jpeg
END:VEVENT
BEGIN:VEVENT
DTSTART;TZID=America/New_York:20250209T201500
DTEND;TZID=America/New_York:20250209T211500
DTSTAMP:20260421T174855
CREATED:20250207T012902Z
LAST-MODIFIED:20250207T042521Z
UID:880959-1739132100-1739135700@anash.org
SUMMARY:Farbrengren with Rabbi Levi Bukiet
DESCRIPTION:Shidduchim
URL:https://anash.org/event/farbrengren-with-rabbi-levi-bukiet/
LOCATION:1669 President st\, 1669 President st\, Brooklyn NY\, 11225
CATEGORIES:Farbrengen
ATTACH;FMTTYPE=image/jpeg:https://files.anash.org/uploads/2025/02/IMG-20250206-WA0002.jpg
END:VEVENT
BEGIN:VEVENT
DTSTART;TZID=America/New_York:20240220T201500
DTEND;TZID=America/New_York:20240220T201500
DTSTAMP:20260421T174855
CREATED:20240219T155019Z
LAST-MODIFIED:20240219T172647Z
UID:773960-1708460100-1708460100@anash.org
SUMMARY:Woman's Nurturing Spirit: The Heartbeat of the Home
DESCRIPTION:A Farbrengen with Mrs. Risha Slavaticki of Antwerp\, Belgium on the topic of Shalom Bayis. This event is brought to you by Junior Nishei Chabad.
URL:https://anash.org/event/womans-nurturing-spirit-the-heartbeat-of-the-home/
LOCATION:1354 Carrol st\, 1354 Carrol st\, Brooklyn
CATEGORIES:Farbrengen
ATTACH;FMTTYPE=image/jpeg:https://files.anash.org/uploads/2024/02/IMG-20240218-WA0029.jpg
END:VEVENT
BEGIN:VEVENT
DTSTART;TZID=America/New_York:20231130T184500
DTEND;TZID=America/New_York:20231130T213000
DTSTAMP:20260421T174855
CREATED:20231130T200101Z
LAST-MODIFIED:20231130T211816Z
UID:733446-1701369900-1701379800@anash.org
SUMMARY:Farbrengen tonight in honor of Yud Tes Kislev
DESCRIPTION:Farbrengen tonight in honor of Yud Tes Kislev
URL:https://anash.org/event/farbrengen-tonight-in-honor-of-yud-tes-kislev/
LOCATION:Bais Levi Yitzchak\, 556 Crown St\, Brooklyn\, NY\, 11213\, United States
CATEGORIES:Farbrengen
END:VEVENT
BEGIN:VEVENT
DTSTART;TZID=America/New_York:20230629T133000
DTEND;TZID=America/New_York:20230629T154500
DTSTAMP:20260421T174855
CREATED:20230628T185039Z
LAST-MODIFIED:20230628T192941Z
UID:633162-1688045400-1688053500@anash.org
SUMMARY:Hakhel Gathering Online Event for Women - Thursday\, Yud Tammuz\, June 29
DESCRIPTION:Hakhel Gathering Online Event for Women – Thursday\, Yud Tammuz\, June 29\nIn preparation for Yud Bais Tammuz\nBy Menouha Wasserman from “Women Embracing Redemption” \nThis Thursday Yud Tammuz\, June 29\, at 1.30pm EDT\, “Women Embracing Redemption” is inviting all women and girls to a Hakhel Gathering online event in preparation for Yud Bais Tammuz.  \nThe program features the Shlucha Alti Majesky from Ghana (Africa)\, guest star singer Franciska whose song “Shiru l’Hashem” inspires women from all walks of life to get ready for Geula\, and guest speaker and singer Chaya Bracha Rubin who will inspire the crowd with chassidic nigunim and insights about the story of Yud Bais Tammuz. \n“Women Embracing Redemption” aims to connect women from all geographical and spiritual horizons to our common essence. Through joy that breaks all barriers\, we unveil our inner potential and step into a Geula consciousness of Oneness and essence revealed.  \n“Atara”\, “Abraham’s Legacy”\, “Welcome Moshiach”\, “Lev Ha’am”\, “Yud Bais Tammuz Committee” are collaborating with “Women Embracing Redemption” to offer a varied and complete program: Inspiration\, live concert\, prayer\, Geula comedy\, Karaoke\, dance… \nAll women and girls are warmly welcomed to be part of this extraordinary moment of unity! \nMay we celebrate this Gathering in Yerushalayim with the full revelation of Moshiach Tzidkeinu! \nMeeting ID: 608 206 3038\nhttps://zoom.us/j/6082063038
URL:https://anash.org/event/hakhel-gathering-online-event-for-women-thursday-yud-tammuz-june-29/
LOCATION:Online
CATEGORIES:Farbrengen
ATTACH;FMTTYPE=image/jpeg:https://files.anash.org/uploads/2023/06/IMG-20230626-WA00051.jpg
END:VEVENT
BEGIN:VEVENT
DTSTART;TZID=America/New_York:20230417T220000
DTEND;TZID=America/New_York:20230417T230000
DTSTAMP:20260421T174855
CREATED:20230417T210443Z
LAST-MODIFIED:20230418T003924Z
UID:586942-1681768800-1681772400@anash.org
SUMMARY:Shlichus panel
DESCRIPTION:Shlichus panel for English speaking buchurim
URL:https://anash.org/event/shlichus-panel/
LOCATION:Eshel
CATEGORIES:Farbrengen
ATTACH;FMTTYPE=image/jpeg:https://files.anash.org/uploads/2023/04/IMG-20230417-WA0009.jpg
END:VEVENT
BEGIN:VEVENT
DTSTART;TZID=America/New_York:20210622T200000
DTEND;TZID=America/New_York:20210622T200000
DTSTAMP:20260421T174855
CREATED:20210621T192354Z
LAST-MODIFIED:20210621T201732Z
UID:258373-1624392000-1624392000@anash.org
SUMMARY:Nshei 12 Tammuz Farbrengan
DESCRIPTION:Nshei Ubnos Chabad 12 Tammuz Farbrengan
URL:https://anash.org/event/nshei-12-tammuz-farbrengan/
LOCATION:Lubavitcher Yeshiva\, 570 Crown St\, Brooklyn\, NY\, 11213\, United States
CATEGORIES:Farbrengen
ATTACH;FMTTYPE=image/jpeg:https://files.anash.org/uploads/2021/06/IMG-20210620-WA0029.jpg
END:VEVENT
BEGIN:VEVENT
DTSTART;TZID=America/New_York:20201125T201500
DTEND;TZID=America/New_York:20201125T201500
DTSTAMP:20260421T174855
CREATED:20201125T142851Z
LAST-MODIFIED:20201125T173714Z
UID:189206-1606335300-1606335300@anash.org
SUMMARY:Farbrengen
DESCRIPTION:A farbrengen in honor of THE MITELER REBBE’S BIRTHDAY YORTZHEIT AND LIBERATION.\nTonight 8:10 pm \nRabbi Yerachmiel Benyominson will farbreng  \nPlease take part.
URL:https://anash.org/event/farbrengen-3/
LOCATION:Beis Hamedrash Eliyahu Nochum – Lefferts shul\, 672 Lefferts Ave.\, brooklyn\, 11203
CATEGORIES:Farbrengen
END:VEVENT
BEGIN:VEVENT
DTSTART;TZID=America/New_York:20200603T190000
DTEND;TZID=America/New_York:20200603T190000
DTSTAMP:20260421T174855
CREATED:20200603T031148Z
LAST-MODIFIED:20200603T185356Z
UID:136263-1591210800-1591210800@anash.org
SUMMARY:11 Sivan Farbrengen for Girls
DESCRIPTION:Rabbi Dubov from Princeton NJ will be giving a Farbrengen for
URL:https://anash.org/event/11-sivan-farbrengen-for-girls/
LOCATION:zoom
CATEGORIES:Farbrengen
ATTACH;FMTTYPE=image/png:https://files.anash.org/uploads/2020/06/Blue-Illustration-Art-Gallery-Raffle-Flyer-2.png
END:VEVENT
BEGIN:VEVENT
DTSTART;TZID=America/New_York:20191216T200000
DTEND;TZID=America/New_York:20191216T200000
DTSTAMP:20260421T174855
CREATED:20191213T143353Z
LAST-MODIFIED:20191223T190256Z
UID:83604-1576526400-1576526400@anash.org
SUMMARY:Yud tes kislev festive seudah and farbrengen
DESCRIPTION:In honor of rosh hashonoh of chasidus\, a Yud tes kislev festive seudah and farbrengen\, with Rabbi m.m wolosov.
URL:https://anash.org/event/yud-tes-kislev-festive-seudah-and-farbrengen/
LOCATION:cong. eliyohu nochum ( lefferts shul\, 672 lefferts Avenue\, Brooklyn\, NY\, 11203\, United States
CATEGORIES:Farbrengen
END:VEVENT
END:VCALENDAR