BEGIN:VCALENDAR
VERSION:2.0
PRODID:-//Anash.org - ECPv6.15.20//NONSGML v1.0//EN
CALSCALE:GREGORIAN
METHOD:PUBLISH
X-ORIGINAL-URL:https://anash.org
X-WR-CALDESC:Events for Anash.org
REFRESH-INTERVAL;VALUE=DURATION:PT1H
X-Robots-Tag:noindex
X-PUBLISHED-TTL:PT1H
BEGIN:VTIMEZONE
TZID:America/New_York
BEGIN:DAYLIGHT
TZOFFSETFROM:-0500
TZOFFSETTO:-0400
TZNAME:EDT
DTSTART:20180311T070000
END:DAYLIGHT
BEGIN:STANDARD
TZOFFSETFROM:-0400
TZOFFSETTO:-0500
TZNAME:EST
DTSTART:20181104T060000
END:STANDARD
BEGIN:DAYLIGHT
TZOFFSETFROM:-0500
TZOFFSETTO:-0400
TZNAME:EDT
DTSTART:20190310T070000
END:DAYLIGHT
BEGIN:STANDARD
TZOFFSETFROM:-0400
TZOFFSETTO:-0500
TZNAME:EST
DTSTART:20191103T060000
END:STANDARD
BEGIN:DAYLIGHT
TZOFFSETFROM:-0500
TZOFFSETTO:-0400
TZNAME:EDT
DTSTART:20200308T070000
END:DAYLIGHT
BEGIN:STANDARD
TZOFFSETFROM:-0400
TZOFFSETTO:-0500
TZNAME:EST
DTSTART:20201101T060000
END:STANDARD
BEGIN:DAYLIGHT
TZOFFSETFROM:-0500
TZOFFSETTO:-0400
TZNAME:EDT
DTSTART:20210314T070000
END:DAYLIGHT
BEGIN:STANDARD
TZOFFSETFROM:-0400
TZOFFSETTO:-0500
TZNAME:EST
DTSTART:20211107T060000
END:STANDARD
BEGIN:DAYLIGHT
TZOFFSETFROM:-0500
TZOFFSETTO:-0400
TZNAME:EDT
DTSTART:20220313T070000
END:DAYLIGHT
BEGIN:STANDARD
TZOFFSETFROM:-0400
TZOFFSETTO:-0500
TZNAME:EST
DTSTART:20221106T060000
END:STANDARD
END:VTIMEZONE
BEGIN:VEVENT
DTSTART;TZID=America/New_York:20210214T100000
DTEND;TZID=America/New_York:20210225T160000
DTSTAMP:20260421T205235
CREATED:20210204T194414Z
LAST-MODIFIED:20210204T211354Z
UID:211444-1613296800-1614268800@anash.org
SUMMARY:Pre Purim Fun
DESCRIPTION:Celebrate Purim’s excitement early with the Pre-Purim Party at the Jewish Children’s Museum! Get in the Purim spirit by learning how to shape and put together delicious hamantashen\, and Visit the Purim exhibit on our 3rd floor to find yourself and your favorite Purim characters in the megillah!  (pictured image is from last year) \nCome dressed up to The Pre-Purim Fun at the Jewish Children’s Museum February 14-25. Visit www.jcm.museum for program hours\, more information\, and booking your ticket
URL:https://anash.org/event/pre-purim-fun/
LOCATION:Jewish Children’s Museum\, 792 Eastern Pkwy\, Brooklyn\, NY\, 11213\, United States
CATEGORIES:Community Event
ATTACH;FMTTYPE=image/jpeg:https://files.anash.org/uploads/2021/02/purim-calendar-listing2.jpg
END:VEVENT
BEGIN:VEVENT
DTSTART;TZID=America/New_York:20210110T100000
DTEND;TZID=America/New_York:20210211T170000
DTSTAMP:20260421T205235
CREATED:20210110T183038Z
LAST-MODIFIED:20210110T183453Z
UID:204703-1610272800-1613062800@anash.org
SUMMARY:Science Lab\, Launches to Space
DESCRIPTION:What do astronauts\, asteroids\, orbit\, galaxy\, and the Jewish Children’s Museum have in common?\nSimply put! The Jewish Children’s Museum is launching to space: Experimenting some cool science creating a feel as if ones an astronaut orbiting space.\nNow that’s what we call a cool fusion!\nJoin the Jewish Children’s Museum January 10 –February 11\, 2021\, as we Launch to Space in the Science Lab. Visit our website https://www.jcm.museum/upcoming-programs/ \, for more information and booking your ticket. Space is limited
URL:https://anash.org/event/science-lab-launches-to-space/
LOCATION:Jewish Children’s Museum\, 792 Eastern Pkwy\, Brooklyn\, NY\, 11213\, United States
CATEGORIES:Community Event
ATTACH;FMTTYPE=image/jpeg:https://files.anash.org/uploads/2021/01/jr-scientist-in-action-at-the-JCM-scaled.jpg
END:VEVENT
BEGIN:VEVENT
DTSTART;TZID=America/New_York:20201227T100000
DTEND;TZID=America/New_York:20201227T153000
DTSTAMP:20260421T205235
CREATED:20201222T153826Z
LAST-MODIFIED:20201222T180055Z
UID:199388-1609063200-1609083000@anash.org
SUMMARY:Under the Ocean Science Lab
DESCRIPTION:Step into the Underwater World!\nWith much research and preparation\, the Jewish Children’s Museum is excited to bring our guests deep into the sea\, with our new curated STEAM workshop. With an extended hands-on workshop\, each child will be transported to the deep sea and explore the chemical reaction of water turning into gummy worms!\nThe Interactive Science Week will transpire December 28 – December 31\, at the Jewish Children’s Museum at 792 Eastern Pkwy\, Brooklyn NY\, 11225 Visit our website\, https://www.jcm.museum/upcoming-programs/\, for more information.
URL:https://anash.org/event/under-the-ocean-science-lab/
LOCATION:Jewish Children’s Museum\, 792 Eastern Pkwy\, Brooklyn\, NY\, 11213\, United States
CATEGORIES:Community Event
ATTACH;FMTTYPE=image/jpeg:https://files.anash.org/uploads/2020/12/science-lab-experiment-calendar-listing-scaled.jpg
END:VEVENT
BEGIN:VEVENT
DTSTART;TZID=America/New_York:20201213T100000
DTEND;TZID=America/New_York:20201217T170000
DTSTAMP:20260421T205235
CREATED:20201026T150351Z
LAST-MODIFIED:20201026T153211Z
UID:180766-1607853600-1608224400@anash.org
SUMMARY:Chanukah Family Fest
DESCRIPTION:It’s Chanukah!  It’s time for festive celebrations and family fun.\nJoin us at the Jewish Children’s Museum for the ultimate Chanukah family experience.\nGet into the holiday spirit by decorating a mouth-watering holiday donut. Discover the art of olive oil making in a fascinating and interactive workshop. Challenge yourself\, your family\, and your friends in a sounds-and-lights-filled entertaining game show. Step into a world of wonder as you explore the museum’s unique exhibits\, and help us create a Chanukah mural on a Menorah.\nThe Chanukah Family Festival will be open from December 13 – December17. Visit our website\, jcm.museum\, for open hours and more information. Due to Covid19 we will be having timed tickets.\nSunday-Tuesday 12/13-12/15\n•	10:00-1:30\n•	2:00-5:30\nWednesday 12/16 & Thursday 12/17\n•	10:00-5:00
URL:https://anash.org/event/chanukah-family-fest/
LOCATION:Jewish Children’s Museum\, 792 Eastern Pkwy\, Brooklyn\, NY\, 11213\, United States
CATEGORIES:Community Event
ATTACH;FMTTYPE=image/jpeg:https://files.anash.org/uploads/2020/10/olive-oil-workshop-2.jpg
END:VEVENT
BEGIN:VEVENT
DTSTART;TZID=America/New_York:20200307T090000
DTEND;TZID=America/New_York:20200307T090000
DTSTAMP:20260421T205235
CREATED:20200306T121004Z
LAST-MODIFIED:20200306T124928Z
UID:112805-1583571600-1583571600@anash.org
SUMMARY:Parshas Zochor Kriah
DESCRIPTION:PSA\nThere will IYH be a Minyan for Kerias HaTorah in Empire Schtiebel\nOn Shabbos at 9:00am\nParshas Zochor will IYH be read at 9:20am\,\nall are welcome.\nIf any men are available to help with the Minyan it will be appreciated.
URL:https://anash.org/event/parshas-zochor-kriah/
LOCATION:Empire Shtiebel\, 489 Empire Blvd\, Brooklyn\, NY\, 11213\, United States
CATEGORIES:Community Event
END:VEVENT
BEGIN:VEVENT
DTSTART;TZID=America/New_York:20200306T080000
DTEND;TZID=America/New_York:20200306T080000
DTSTAMP:20260421T205235
CREATED:20200306T064124Z
LAST-MODIFIED:20200306T124949Z
UID:112803-1583481600-1583481600@anash.org
SUMMARY:WOMEN'S ONEG SHABBOS
DESCRIPTION:CROWN HEIGHTS WOMEN’S ONEG SHABBOS Torah Study Group. Invites you to our Friday night gathering\, “GRAND FINALE” (last one for this season). Speaker Mrs. Bronya Shaffer\, Hostess: Mrs. Shifra Shurpin\, at 698 Montgomery St. (between Kingston and Albany Aves.).
URL:https://anash.org/event/womens-oneg-shabbos-18/
LOCATION:at 698 Montgomery St. (between Kingston and Albany Aves.).
CATEGORIES:Community Event
END:VEVENT
BEGIN:VEVENT
DTSTART;TZID=America/New_York:20200228T210000
DTEND;TZID=America/New_York:20200228T210000
DTSTAMP:20260421T205235
CREATED:20200227T150317Z
LAST-MODIFIED:20200227T150547Z
UID:110182-1582923600-1582923600@anash.org
SUMMARY:WOMEN'S ONEG SHABBOS
DESCRIPTION:CROWN HEIGHTS WOMEN’S ONEG SHABBOS Torah Study Group\, Speaker: Rabbi Michoel Lerner. Hostess: Mrs. Feige Broner. At 773 Montgomery St. (between Albany & Troy Aves.)
URL:https://anash.org/event/womens-oneg-shabbos-17/
LOCATION:At 773 Montgomery St. (between Albany & Troy Aves.)
CATEGORIES:Community Event
END:VEVENT
BEGIN:VEVENT
DTSTART;TZID=America/New_York:20200223T170000
DTEND;TZID=America/New_York:20200223T230000
DTSTAMP:20260421T205235
CREATED:20200219T171736Z
LAST-MODIFIED:20200219T171841Z
UID:107759-1582477200-1582498800@anash.org
SUMMARY:N'SHEI CHABAD MIVTZOIM AUCTION
DESCRIPTION:N’SHEI CHABAD MIVTZOIM AUCTION:   Terrific prizes\,  entertainment\, singer Esther Freeman with choreography by ‘”Tambourine Academy”\,\nRenowned speaker Rabbi Shais Taub will address us.  Fleishig buffet and desserts.\nLubavitcher Yeshiva.\nViewing 5:00 PM – Program 8:00 PM\nAdmission: $25.00-includes 1 free $20.00 auction ticket.\nFor women & girls 12 and up\nBuyTickets Online:   https://www.MyMivtzoim.com\nPhone orders 845 -275-0509
URL:https://anash.org/event/nshei-chabad-mivtzoim-auction/
LOCATION:Lubavitcher Yeshiva\, 570 Crown St\, Brooklyn\, NY\, 11213\, United States
CATEGORIES:Community Event
END:VEVENT
BEGIN:VEVENT
DTSTART;TZID=America/New_York:20200207T210000
DTEND;TZID=America/New_York:20200207T210000
DTSTAMP:20260421T205235
CREATED:20200206T202430Z
LAST-MODIFIED:20200206T202512Z
UID:102365-1581109200-1581109200@anash.org
SUMMARY:WOMEN'S ONEG SHABBOS
DESCRIPTION:CROWN HEIGHTS WOMEN’S ONEG SHABBOS Torah Study Group\, Speaker: Rabbi Kalman Weinfeld. Hostess: Mrs. Tanya Dina Jacobson\, at 535 Crown St. (between Kingston & Albany Aves.)
URL:https://anash.org/event/womens-oneg-shabbos-15/
LOCATION:535 Crown St. (between Kingston & Albany Aves.)
CATEGORIES:Community Event
END:VEVENT
BEGIN:VEVENT
DTSTART;TZID=America/New_York:20200124T210000
DTEND;TZID=America/New_York:20200124T210000
DTSTAMP:20260421T205235
CREATED:20200123T145551Z
LAST-MODIFIED:20200123T150201Z
UID:98203-1579899600-1579899600@anash.org
SUMMARY:WOMEN'S ONEG SHABBOS
DESCRIPTION:CROWN HEIGHTS WOMEN’S ONEG SHABBOS Torah Study Group. Speaker: Rabbi Simon Jacobson. Hostess: Mrs. Chaya Lieblich.
URL:https://anash.org/event/womens-oneg-shabbos-13/
LOCATION:821 Montgomery St. (between Albany & Troy Aves.)
CATEGORIES:Community Event
END:VEVENT
BEGIN:VEVENT
DTSTART;TZID=America/New_York:20191227T210000
DTEND;TZID=America/New_York:20191227T210000
DTSTAMP:20260421T205235
CREATED:20191226T011757Z
LAST-MODIFIED:20191226T231736Z
UID:89207-1577480400-1577480400@anash.org
SUMMARY:WOMEN'S ONEG SHABBOS Torah Study Group
DESCRIPTION:Friday Night Gathering. Speaker: Rabbi Michoel A. Seligson. Hostess: Mrs. Chaya Lang.
URL:https://anash.org/event/womens-oneg-shabbos-torah-study-group/
LOCATION:783 Montgomery St. (between Albany & Troy Aves.)
CATEGORIES:Community Event
END:VEVENT
BEGIN:VEVENT
DTSTART;TZID=America/New_York:20191204T200000
DTEND;TZID=America/New_York:20191204T200000
DTSTAMP:20260421T205235
CREATED:20191203T182300Z
LAST-MODIFIED:20191204T200543Z
UID:81155-1575489600-1575489600@anash.org
SUMMARY:Fifth Yartzeit of Mrs Gita Gansburg
DESCRIPTION:“Five Minutes with Mrs. Gansburg” featuring people who knew Mrs. Gansburg in different ways and at different times of her life. Rabbi Shloma Majeski\, dean of Machon L’Yahadus\, Chaya (Arad) Schwartz\, Basya Gold\, Esther Stein\, Alizah Chana Schmalberg\, Raiza Malka Hartz\, Nava Pais\, Mrs. Nechama Chanin\, Rabbi Yitzhak Hecht.
URL:https://anash.org/event/fifth-yartzeit-of-mrs-gita-gansburg/
LOCATION:Machon L’Yahadus Dorm\, 1367 President Street\, Brooklyn\, 11213
CATEGORIES:Community Event
END:VEVENT
BEGIN:VEVENT
DTSTART;TZID=America/New_York:20191203T203000
DTEND;TZID=America/New_York:20191203T203000
DTSTAMP:20260421T205235
CREATED:20191124T024330Z
LAST-MODIFIED:20191128T194546Z
UID:76883-1575405000-1575405000@anash.org
SUMMARY:Taharas Hamishpacha Shiur
DESCRIPTION:Shiur on Hashkafa with Mrs. Mushky Kotlarsky
URL:https://anash.org/event/taharas-hamishpacha-shiur/
LOCATION:1442 Carroll Street\, 1442 Carrol Streeet\, Brooklyn\, 11213
CATEGORIES:Community Event
END:VEVENT
BEGIN:VEVENT
DTSTART;TZID=America/New_York:20191129T210000
DTEND;TZID=America/New_York:20191129T210000
DTSTAMP:20260421T205235
CREATED:20191128T171624Z
LAST-MODIFIED:20191129T035106Z
UID:79401-1575061200-1575061200@anash.org
SUMMARY:WOMEN'S ONEG SHABBOS
DESCRIPTION:Crown Heights Women’s Oneg Shabbos Torah Study Group\, invites you to a Friday Night Gathering. Speaker: Rabbi Y.Y. Hurwitz\, Hostess: Mrs. Bracha Hurwitz.
URL:https://anash.org/event/womens-oneg-shabbos-4/
LOCATION:at 700 Montgomery St. (between Kingston & Albany Aves.)
CATEGORIES:Community Event
END:VEVENT
BEGIN:VEVENT
DTSTART;TZID=America/New_York:20191122T210000
DTEND;TZID=America/New_York:20191122T210000
DTSTAMP:20260421T205235
CREATED:20191122T034623Z
LAST-MODIFIED:20191122T144433Z
UID:75992-1574456400-1574456400@anash.org
SUMMARY:WOMEN'S ONEG SHABBOS
DESCRIPTION:Crown Heights Women’s Oneg Shabbos Torah Study Group\, Friday night gathering. Speaker: Rabbi Zalman Marcus. Hostess: Mrs. Shaindy Gutnick
URL:https://anash.org/event/womens-oneg-shabbos-3/
LOCATION:829 Montgomery St. (between Albany & Troy Aves.)
CATEGORIES:Community Event
END:VEVENT
BEGIN:VEVENT
DTSTART;TZID=America/New_York:20191115T210000
DTEND;TZID=America/New_York:20191115T210000
DTSTAMP:20260421T205235
CREATED:20191113T181253Z
LAST-MODIFIED:20191115T052425Z
UID:72906-1573851600-1573851600@anash.org
SUMMARY:WOMEN'S ONEG SHABBOS
DESCRIPTION:Crown Heights Women’s Oneg Shabbos Torah Study Group\, invites you to our Friday night gathering.\nSpeaker: Rabbi Manis Friedman\, Hostess: Mrs. Brocha Friedman.
URL:https://anash.org/event/womens-oneg-shabbos-2/
LOCATION:701 Montgomery St. (between Kingston & Albany Aves.)
CATEGORIES:Community Event
END:VEVENT
END:VCALENDAR